Workbook

Sheet ССР
A1: =Source!B1 -> Smeta.RU (495) 974-1589
A3: Заказчик | C3: =IF(Source!H4<>"",Source!H4," ") -> КУ ЧР "Республиканская служба единого заказчика" Министерства строительства, архитектуры и жилищно-коммунального хозяйства Чувашской Республики | Q3: =IF(Source!H4<>"",Source!H4," ") -> КУ ЧР "Республиканская служба единого заказчика" Министерства строительства, архитектуры и жилищно-коммунального хозяйства Чувашской Республики
A4: (наименование организации)
A6: Утвержден | C6: =IF(Source!AA4<>0, Source!AA4, "") -> 45993
A8: Сводный сметный расчет в сумме | D8: =H91 -> 637598.35 | E8: тыс.руб.
A10: =IF(Source!AB4<>"", Source!AB4, " ")
A11: (ссылка на документ об утверждении)
B12: 46055
A14: СВОДНЫЙ СМЕТНЫЙ РАСЧЕТ СТОИМОСТИ СТРОИТЕЛЬСТВА
A16: =CONCATENATE(Source!G4) -> Реконструкция объектов централизованной системы водоотведения г. Алатырь Чувашской Республики (8 мероприятий по сетям водоотведения, проходящим по улицам: Фестивальная, Садовая, Свердлова, Шпальная, Кутузова, Почтовая, Академика Крылова, Ленина, Комиссариатская, Чебоксарская, Маяковского, Троицкая, Советская, Гончарова, Гоголевский спуск, Сурская дамба) | P16: =CONCATENATE(Source!G4) -> Реконструкция объектов централизованной системы водоотведения г. Алатырь Чувашской Республики (8 мероприятий по сетям водоотведения, проходящим по улицам: Фестивальная, Садовая, Свердлова, Шпальная, Кутузова, Почтовая, Академика Крылова, Ленина, Комиссариатская, Чебоксарская, Маяковского, Троицкая, Советская, Гончарова, Гоголевский спуск, Сурская дамба)
A17: (наименование стройки)
A19: Составлен в базисном уровне цен 4 квартал 2025 г.
A21: № п/п | B21: Обоснование | C21: Наименование глав, объектов капитального строительства, работ и затрат | D21: Сметная стоимость, тыс.руб.
D22: строительных (ремонтно - строительных, ремонтно - реставрационных) работ | E22: монтажных работ | F22: оборудования | G22: прочих затрат | H22: всего
A23: 1 | B23: 2 | C23: 3 | D23: 4 | E23: 5 | F23: 6 | G23: 7 | H23: 8
C24: =Source!G12 -> Глава 1. Подготовка территории строительства, реконструкции, капитального ремонта. | Q24: =Source!G12 -> Глава 1. Подготовка территории строительства, реконструкции, капитального ремонта.
A25: 1 | B25: =Source!E13 -> Расчет №1 | C25: =Source!G13 -> Перенос и закрепление в натуре оси трасс разного назначения: водопровода,канализации, дорог и прочие линейные сооружения | D25: =IF(Source!AI13=0,"-", Source!AI13/1) -> - | E25: =IF(Source!AJ13=0,"-", Source!AJ13/1) -> - | F25: =IF(Source!AK13=0,"-", Source!AK13/1) -> - | G25: =IF(Source!AL13=0,"-", Source!AL13/1) -> 170.11 | H25: =IF(Source!AM13=0,"-", Source!AM13/1) -> 170.11
C26: =CONCATENATE("Итого по ", Source!F12) -> Итого по Гл. 1 | D26: =IF(Source!AI12=0,"-", Source!AI12/1) -> - | E26: =IF(Source!AJ12=0,"-", Source!AJ12/1) -> - | F26: =IF(Source!AK12=0,"-", Source!AK12/1) -> - | G26: =IF(Source!AL12=0,"-", Source!AL12/1) -> 170.11 | H26: =IF(Source!AM12=0,"-", Source!AM12/1) -> 170.11
C28: =Source!G14 -> Глава 2. Основные объекты строительства, реконструкции, капитального ремонта. | Q28: =Source!G14 -> Глава 2. Основные объекты строительства, реконструкции, капитального ремонта.
A29: 2 | B29: =Source!E15 -> ЛСР №ЛС-02-01-01 | C29: =Source!G15 -> Коллектор по ул. Фестивальная, Сурской дамбе, ул. Садовая до КНС №1 | D29: 21025.175 | E29: =IF(Source!AJ15=0,"-", Source!AJ15/1) -> - | F29: =IF(Source!AK15=0,"-", Source!AK15/1) -> - | G29: =IF(Source!AL15=0,"-", Source!AL15/1) -> - | H29: 21025.175
A30: 3 | B30: =Source!E16 -> ЛСР №ЛС-02-02-01 | C30: =Source!G16 -> Коллектор по Гоголевскому спуску от ул. Свердлова до ОСК | D30: 86481.817 | E30: =IF(Source!AJ16=0,"-", Source!AJ16/1) -> - | F30: =IF(Source!AK16=0,"-", Source!AK16/1) -> - | G30: =IF(Source!AL16=0,"-", Source!AL16/1) -> - | H30: 86481.817
A31: 4 | B31: =Source!E17 -> ЛСР №ЛС-02-03-01 | C31: =Source!G17 -> Коллектор по ул. Шпальная, на участке от ул. Кутузова до ул.Почтовая | D31: 55949.551 | E31: =IF(Source!AJ17=0,"-", Source!AJ17/1) -> - | F31: =IF(Source!AK17=0,"-", Source!AK17/1) -> - | G31: =IF(Source!AL17=0,"-", Source!AL17/1) -> - | H31: 55949.551
A32: 5 | B32: =Source!E18 -> ЛСР №ЛС-02-04-01 | C32: =Source!G18 -> Напорный коллектор от КНС №1 по ул. Садовая, ул. Академика Крылова, ул. Ленина до пересечения с ул. Комиссариатская | D32: 56666.724 | E32: =IF(Source!AJ18=0,"-", Source!AJ18/1) -> - | F32: =IF(Source!AK18=0,"-", Source!AK18/1) -> - | G32: =IF(Source!AL18=0,"-", Source!AL18/1) -> - | H32: 56666.724
A33: 6 | B33: =Source!E19 -> ЛСР №ЛС-02-05-01 | C33: =Source!G19 -> Напорный коллектор КНС №2 по ул. Чебоксарская и ул. Ленина до ул. Маяковского, 20 (камера гашения) | D33: 47135.954 | E33: =IF(Source!AJ19=0,"-", Source!AJ19/1) -> - | F33: =IF(Source!AK19=0,"-", Source!AK19/1) -> - | G33: =IF(Source!AL19=0,"-", Source!AL19/1) -> - | H33: 47135.954
A34: 7 | B34: =Source!E20 -> ЛСР №ЛС-02-06-01 | C34: =Source!G20 -> Канализационная сеть по ул. Ленина от ул. Комиссариатская до ул. Троицкая | D34: 119634.55 | E34: =IF(Source!AJ20=0,"-", Source!AJ20/1) -> - | F34: =IF(Source!AK20=0,"-", Source!AK20/1) -> - | G34: =IF(Source!AL20=0,"-", Source!AL20/1) -> - | H34: 119634.55
A35: 8 | B35: =Source!E21 -> ЛСР №ЛС-02-07-01 | C35: =Source!G21 -> Канализационная сеть по ул. Советская от школы №3 до ул. Гончарова | D35: 66631.682 | E35: =IF(Source!AJ21=0,"-", Source!AJ21/1) -> - | F35: =IF(Source!AK21=0,"-", Source!AK21/1) -> - | G35: =IF(Source!AL21=0,"-", Source!AL21/1) -> - | H35: 66631.682
A36: 9 | B36: =Source!E22 -> ЛСР №ЛС-02-08-01 | C36: =Source!G22 -> Канализационная сеть по ул. Гончарова от к/т «Октябрь» до ул. Ленина | D36: 30415.133 | E36: =IF(Source!AJ22=0,"-", Source!AJ22/1) -> - | F36: =IF(Source!AK22=0,"-", Source!AK22/1) -> - | G36: =IF(Source!AL22=0,"-", Source!AL22/1) -> - | H36: 30415.133
C37: =CONCATENATE("Итого по ", Source!F14) -> Итого по Гл. 2 | D37: =SUM(D29:D36) -> 483940.58 | E37: =IF(Source!AJ14=0,"-", Source!AJ14/1) -> - | F37: =IF(Source!AK14=0,"-", Source!AK14/1) -> - | G37: =IF(Source!AL14=0,"-", Source!AL14/1) -> - | H37: =SUM(H29:H36) -> 483940.58
C39: =Source!G23 -> Глава 3. Объекты подсобного и обслуживающего назначения.
C40: =CONCATENATE("Итого по ", Source!F23) -> Итого по Гл. 3 | D40: =IF(Source!AI23=0,"-", Source!AI23/1) -> - | E40: =IF(Source!AJ23=0,"-", Source!AJ23/1) -> - | F40: =IF(Source!AK23=0,"-", Source!AK23/1) -> - | G40: =IF(Source!AL23=0,"-", Source!AL23/1) -> - | H40: =IF(Source!AM23=0,"-", Source!AM23/1) -> -
C42: =Source!G24 -> Глава 4. Объекты энергетического хозяйства.
C43: =CONCATENATE("Итого по ", Source!F24) -> Итого по Гл. 4 | D43: =IF(Source!AI24=0,"-", Source!AI24/1) -> - | E43: =IF(Source!AJ24=0,"-", Source!AJ24/1) -> - | F43: =IF(Source!AK24=0,"-", Source!AK24/1) -> - | G43: =IF(Source!AL24=0,"-", Source!AL24/1) -> - | H43: =IF(Source!AM24=0,"-", Source!AM24/1) -> -
C45: =Source!G25 -> Глава 5. Объекты транспортного хозяйства и связи.
C46: =CONCATENATE("Итого по ", Source!F25) -> Итого по Гл. 5 | D46: =IF(Source!AI25=0,"-", Source!AI25/1) -> - | E46: =IF(Source!AJ25=0,"-", Source!AJ25/1) -> - | F46: =IF(Source!AK25=0,"-", Source!AK25/1) -> - | G46: =IF(Source!AL25=0,"-", Source!AL25/1) -> - | H46: =IF(Source!AM25=0,"-", Source!AM25/1) -> -
C48: =Source!G26 -> Глава 6. Наружные сети и сооружения водоснабжения, водоотведения, теплоснабжения и газоснабжения. | Q48: =Source!G26 -> Глава 6. Наружные сети и сооружения водоснабжения, водоотведения, теплоснабжения и газоснабжения.
C49: =CONCATENATE("Итого по ", Source!F26) -> Итого по Гл. 6 | D49: =IF(Source!AI26=0,"-", Source!AI26/1) -> - | E49: =IF(Source!AJ26=0,"-", Source!AJ26/1) -> - | F49: =IF(Source!AK26=0,"-", Source!AK26/1) -> - | G49: =IF(Source!AL26=0,"-", Source!AL26/1) -> - | H49: =IF(Source!AM26=0,"-", Source!AM26/1) -> -
C51: =Source!G27 -> Глава 7. Благоустройство и озеленение территории.
C52: =CONCATENATE("Итого по ", Source!F27) -> Итого по Гл. 7 | D52: =IF(Source!AI27=0,"-", Source!AI27/1) -> - | E52: =IF(Source!AJ27=0,"-", Source!AJ27/1) -> - | F52: =IF(Source!AK27=0,"-", Source!AK27/1) -> - | G52: =IF(Source!AL27=0,"-", Source!AL27/1) -> - | H52: =IF(Source!AM27=0,"-", Source!AM27/1) -> -
C54: =Source!G28 -> Итого по главам 1 - 7 | D54: =D37 -> 483940.58 | E54: =IF(Source!AJ28=0,"-", Source!AJ28/1) -> - | F54: =IF(Source!AK28=0,"-", Source!AK28/1) -> - | G54: =IF(Source!AL28=0,"-", Source!AL28/1) -> 170.11 | H54: =H37+H26 -> 484110.69
C56: =Source!G30 -> Глава 8. Временные здания и сооружения.
A57: 10 | B57: =Source!E31 -> Приказ №332/пр от 19.06.2020 г. (с изм №534/пр от 13.08.2024 г.) | C57: =Source!G31 -> Временные здания и сооружения (п.41) - 1,5% с К-0,8 | D57: =D37*0.015*0.8 -> 5807.287 | E57: =IF(Source!AJ31=0,"-", Source!AJ31/1) -> - | F57: =IF(Source!AK31=0,"-", Source!AK31/1) -> - | G57: =IF(Source!AL31=0,"-", Source!AL31/1) -> - | H57: =H37*0.015*0.8 -> 5807.287
C58: =CONCATENATE("Итого по ", Source!F30) -> Итого по Гл. 8 | D58: =D57 -> 5807.287 | E58: =IF(Source!AJ30=0,"-", Source!AJ30/1) -> - | F58: =IF(Source!AK30=0,"-", Source!AK30/1) -> - | G58: =IF(Source!AL30=0,"-", Source!AL30/1) -> - | H58: =H57 -> 5807.287
C60: =Source!G32 -> Итого по главам 1 - 8 | D60: =D58+D54 -> 489747.87 | E60: =IF(Source!AJ32=0,"-", Source!AJ32/1) -> - | F60: =IF(Source!AK32=0,"-", Source!AK32/1) -> - | G60: =IF(Source!AL32=0,"-", Source!AL32/1) -> 170.11 | H60: =H58+H54 -> 489917.98
C62: =Source!G34 -> Глава 9. Прочие работы и затраты.
A63: 11 | B63: =Source!E35 -> Приказ №325/пр от 25.05.2021 г. (с изм. №170/пр от 25.03.2025 г.) | C63: =Source!G35 -> Дополнительные затраты при производстве работ в зимнее время (п.77) - 3,4% | D63: =D60*0.034 -> 16651.428 | E63: =IF(Source!AJ35=0,"-", Source!AJ35/1) -> - | F63: =IF(Source!AK35=0,"-", Source!AK35/1) -> - | G63: =IF(Source!AL35=0,"-", Source!AL35/1) -> - | H63: =D63 -> 16651.428
A64: 12 | B64: =Source!E36 -> Расчет №2 | C64: =Source!G36 -> Расчет платы размещения строительного мусора на полигоне ТБО | D64: =IF(Source!AI36=0,"-", Source!AI36/1) -> - | E64: =IF(Source!AJ36=0,"-", Source!AJ36/1) -> - | F64: =IF(Source!AK36=0,"-", Source!AK36/1) -> - | G64: =IF(Source!AL36=0,"-", Source!AL36/1) -> 830.2 | H64: =IF(Source!AM36=0,"-", Source!AM36/1) -> 830.2
C65: =CONCATENATE("Итого по ", Source!F34) -> Итого по Гл. 9 | D65: =D63 -> 16651.428 | E65: =IF(Source!AJ34=0,"-", Source!AJ34/1) -> - | F65: =IF(Source!AK34=0,"-", Source!AK34/1) -> - | G65: =IF(Source!AL34=0,"-", Source!AL34/1) -> 830.2 | H65: =H63+H64 -> 17481.628
C67: =Source!G37 -> Итого по главам 1 - 9 | D67: =D65+D60 -> 506399.3 | E67: =IF(Source!AJ37=0,"-", Source!AJ37/1) -> - | F67: =IF(Source!AK37=0,"-", Source!AK37/1) -> - | G67: =G60+G65 -> 1000.31 | H67: =H60+H65 -> 507399.61
C69: =Source!G39 -> Глава 10. Содержание службы заказчика. Строительный контроль.
A70: 13 | B70: =Source!E40 -> Пост. Правительства РФ №468 от 21.06.2010 г. | C70: =Source!G40 -> Строительный контроль - 1,93%. | D70: =IF(Source!AI40=0,"-", Source!AI40/1) -> - | E70: =IF(Source!AJ40=0,"-", Source!AJ40/1) -> - | F70: =IF(Source!AK40=0,"-", Source!AK40/1) -> -
C71: =CONCATENATE("Итого по ", Source!F39) -> Итого по Гл. 10 | D71: =IF(Source!AI39=0,"-", Source!AI39/1) -> - | E71: =IF(Source!AJ39=0,"-", Source!AJ39/1) -> - | F71: =IF(Source!AK39=0,"-", Source!AK39/1) -> -
C73: =Source!G41 -> Итого по главам 1 - 10 | D73: =D67 -> 506399.3 | E73: =IF(Source!AJ41=0,"-", Source!AJ41/1) -> - | F73: =IF(Source!AK41=0,"-", Source!AK41/1) -> - | G73: =G67 -> 1000.31 | H73: =H67 -> 507399.61
C75: =Source!G47 -> Глава 12. Публичный технологический и ценовой аудит, подготовка обоснования инвестиций, осуществляемых в инвестиционный проект по созданию объекта капитального строительства, в отношении которого планируется заключение контракта, предметом которого является одновременно выполнение работ по проектированию, строительству и вводу в эксплуатацию объекта капитального строительства, технологический и ценовой аудит такого обоснования инвестиций, аудит проектной документации, проектные и изыскательские работы. | Q75: =Source!G47 -> Глава 12. Публичный технологический и ценовой аудит, подготовка обоснования инвестиций, осуществляемых в инвестиционный проект по созданию объекта капитального строительства, в отношении которого планируется заключение контракта, предметом которого является одновременно выполнение работ по проектированию, строительству и вводу в эксплуатацию объекта капитального строительства, технологический и ценовой аудит такого обоснования инвестиций, аудит проектной документации, проектные и изыскательские работы.
A76: 14 | B76: =Source!E49 -> Приказ Минстроя РФ № 421/пр от 04.08.2020 г., п.171 | C76: =Source!G49 -> Проведение авторского надзора - 0,2% | D76: =IF(Source!AI49=0,"-", Source!AI49/1) -> - | E76: =IF(Source!AJ49=0,"-", Source!AJ49/1) -> - | F76: =IF(Source!AK49=0,"-", Source!AK49/1) -> -
C77: =CONCATENATE("Итого по ", Source!F47) -> Итого по Гл. 12 | D77: =IF(Source!AI47=0,"-", Source!AI47/1) -> - | E77: =IF(Source!AJ47=0,"-", Source!AJ47/1) -> - | F77: =IF(Source!AK47=0,"-", Source!AK47/1) -> -
C79: =Source!G50 -> Итого по главам 1-12 | D79: =D73 -> 506399.3 | E79: =IF(Source!AJ50=0,"-", Source!AJ50/1) -> - | F79: =IF(Source!AK50=0,"-", Source!AK50/1) -> - | G79: =G73 -> 1000.31 | H79: =H73 -> 507399.61
C81: =Source!G52 -> Резерв средств на непредвиденные работы и затраты
A82: 15 | B82: =Source!E53 -> Приказ Минстроя РФ № 421/пр от 04.08.2020 г., п.179,б | C82: =Source!G53 -> Резерв средств на непредвиденные работы и затраты - 3% | D82: =0.03*D79 -> 15191.979 | E82: =IF(Source!AJ53=0,"-", Source!AJ53/1) -> - | F82: =IF(Source!AK53=0,"-", Source!AK53/1) -> - | G82: =0.03*G79 -> 30.0093 | H82: =H79*0.03 -> 15221.988
C83: =CONCATENATE("Итого по ", Source!F52) -> Итого по Непредв | D83: =D82 -> 15191.979 | E83: =IF(Source!AJ52=0,"-", Source!AJ52/1) -> - | F83: =IF(Source!AK52=0,"-", Source!AK52/1) -> - | G83: =G82 -> 30.0093 | H83: =H82 -> 15221.988
C85: =Source!G54 -> Итого с непредвиденными | D85: =D83+D79 -> 521591.28 | E85: =IF(Source!AJ54=0,"-", Source!AJ54/1) -> - | F85: =IF(Source!AK54=0,"-", Source!AK54/1) -> - | G85: =G79+G83 -> 1030.3193 | H85: =H79+H83 -> 522621.6
C87: =Source!G56 -> Средства на покрытие затрат по уплате налога на добавленную стоимость по итогу глав сводного сметного расчета | Q87: =Source!G56 -> Средства на покрытие затрат по уплате налога на добавленную стоимость по итогу глав сводного сметного расчета
A88: 16 | B88: =Source!E57 -> № 425-ФЗ от 25.11.2025 г | C88: =Source!G57 -> Средства на покрытие затрат по уплате налога на добавленную стоимость по итогу глав сводного сметного расчета (за исключением ст. 149-150 НК РФ) | D88: =0.22*D85 -> 114750.08 | E88: =IF(Source!AJ57=0,"-", Source!AJ57/1) -> - | F88: =IF(Source!AK57=0,"-", Source!AK57/1) -> - | G88: =G85*0.22 -> 226.67025 | H88: =H85*0.22 -> 114976.75
C89: =CONCATENATE("Итого по ", Source!F56) -> Итого по НДС | D89: =D88 -> 114750.08 | E89: =IF(Source!AJ56=0,"-", Source!AJ56/1) -> - | F89: =IF(Source!AK56=0,"-", Source!AK56/1) -> - | G89: =G88 -> 226.67025 | H89: =H88 -> 114976.75
C91: =Source!G58 -> Стоимость в уровне цен на 4 квартал 2025 года с учетом НДС | D91: =D89+D85 -> 636341.36 | E91: =IF(Source!AJ58=0,"-", Source!AJ58/1) -> - | F91: =IF(Source!AK58=0,"-", Source!AK58/1) -> - | G91: =G89+G85 -> 1256.9895 | H91: =H89+H85 -> 637598.35
B94: Руководитель проектной организации | F94: =IF(Source!L4<>"",Source!L4," ") -> Ижелеева К.В.
E95: [подпись(инициалы,фамилия)]
B97: Главный инженер проекта | F97: =IF(Source!M4<>"",Source!M4," ") -> Лукиянов В.В.
E98: [подпись(инициалы,фамилия)]
B100: =CONCATENATE("Начальник ", Source!O4, " отдела") -> Начальник сметного отдела | F100: =IF(Source!N4<>"",Source!N4," ") -> Заковряшина Н.О.
E101: [подпись(инициалы,фамилия)]
B103: Заказчик | C103: =IF(Source!R4<>"",Source!R4," ") -> Начальник отдела сопровождения проектно-изыскательских работ | F103: =IF(Source!I4<>"",Source!I4," ") -> Паркаев А.А.
D104: [должность,подпись(инициалы,фамилия)]

Sheet Source
A1: 0 | B1: Smeta.RU (495) 974-1589 | D1: _SSR_ | F1: 0 | G1: 0 | H1: 0 | I1: Smeta.RU | K1: 1 | L1: 67869 | M1: 10 | N1: 11 | O1: 15 | P1: 0 | Q1: 2
A4: 5 | B4: 1 | C4: -1 | D4: 23 | E4: 41 | G4: Реконструкция объектов централизованной системы водоотведения г. Алатырь Чувашской Республики (8 мероприятий по сетям водоотведения, проходящим по улицам: Фестивальная, Садовая, Свердлова, Шпальная, Кутузова, Почтовая, Академика Крылова, Ленина, Комиссариатская, Чебоксарская, Маяковского, Троицкая, Советская, Гончарова, Гоголевский спуск, Сурская дамба) | H4: КУ ЧР "Республиканская служба единого заказчика" Министерства строительства, архитектуры и жилищно-коммунального хозяйства Чувашской Республики | I4: Паркаев А.А. | K4: ООО "ПМК-Проект" | L4: Ижелеева К.В. | M4: Лукиянов В.В. | N4: Заковряшина Н.О. | O4: сметного | R4: Начальник отдела сопровождения проектно-изыскательских работ | W4: 108429162 | X4: 2025 | Y4: 10 | Z4: 2025, Октябрь | AA4: 45993 | AC4: 651179.2 | AD4: 0 | AE4: 0 | AF4: 636341.36 | AG4: 0 | AH4: 0 | AI4: 14837.84 | AL4: 0 | AM4: 0 | AN4: 0 | AO4: 636341.36 | AP4: 0 | AQ4: 0 | AR4: 0 | AS4: 14837.84 | AT4: 0 | AU4: 651179.2 | AV4: 0 | AW4: 0 | AX4: 0 | AY4: 0 | BL4: 0
A5: 1 | B5: 1 | C5: -1 | F5: СТРОЙКА ОЦСК | G5: СТРОЙКА ОЦСК | P5: 0 | BL5: 0
A10: 35 | B10: 20 | C10: 108429162 | D10: 1 | E10: 0 | F10: 1 | G10: 61 | H10: 71 | I10: 89 | J10: 137 | K10: 0
B12: 1 | F12: Гл. 1 | G12: Глава 1. Подготовка территории строительства, реконструкции, капитального ремонта. | H12: 1 | I12: 0 | J12: 0 | K12: 4 | L12: 0 | M12: 0 | N12: 0 | O12: 1 | P12: 0 | Q12: 0 | R12: 0 | AI12: 0 | AJ12: 0 | AK12: 0 | AL12: 170.11 | AM12: 170.11 | AN12: 0 | AO12: 0 | AP12: 0 | AQ12: 0 | AR12: 0 | AS12: 0 | AT12: 0 | AU12: 0 | AV12: 0 | AW12: 0 | AX12: 0 | AY12: 0 | AZ12: 0 | BA12: 0 | BB12: 0 | BC12: 0
B13: 1 | E13: Расчет №1 | F13: Итог 4 | G13: Перенос и закрепление в натуре оси трасс разного назначения: водопровода,канализации, дорог и прочие линейные сооружения | H13: 1 | I13: 1 | J13: 0 | K13: 55412 | L13: 0 | M13: 0 | N13: 0 | O13: 0 | P13: 0 | Q13: 0 | R13: 0 | AH13: Прочие | AI13: 0 | AJ13: 0 | AK13: 0 | AL13: 170.11 | AM13: 170.11 | AN13: 0 | AO13: 0 | AP13: 0 | AQ13: 0 | AR13: 0 | AS13: 0 | AT13: 0 | AU13: 0 | AV13: 0 | AW13: 0 | AX13: 0 | AY13: 0 | AZ13: 0 | BA13: 0 | BB13: 0 | BC13: 0
B14: 1 | F14: Гл. 2 | G14: Глава 2. Основные объекты строительства, реконструкции, капитального ремонта. | H14: 4 | I14: 0 | J14: 0 | K14: 7 | L14: 0 | M14: 0 | N14: 0 | O14: 2 | P14: 0 | Q14: 0 | R14: 0 | AI14: 483940.58 | AJ14: 0 | AK14: 0 | AL14: 0 | AM14: 483940.58 | AN14: 0 | AO14: 0 | AP14: 0 | AQ14: 0 | AR14: 0 | AS14: 0 | AT14: 0 | AU14: 0 | AV14: 0 | AW14: 0 | AX14: 0 | AY14: 0 | AZ14: 0 | BA14: 0 | BB14: 483940.58 | BC14: 0
B15: 1 | C15: 2 | D15: 110494802 | E15: ЛСР №ЛС-02-01-01 | G15: Коллектор по ул. Фестивальная, Сурской дамбе, ул. Садовая до КНС №1 | H15: 4 | I15: 0 | J15: 54 | K15: 55396 | L15: 3 | M15: 110494873 | N15: 1 | O15: 106577040 | P15: 0 | Q15: 0 | R15: 766.02558 | AH15: ЕР | AI15: 21025.18 | AJ15: 0 | AK15: 0 | AL15: 0 | AM15: 21025.18 | AN15: 0 | AO15: 12315.79 | AP15: 18079.54 | AQ15: 3932.95 | AR15: 252.78 | AS15: 1475.24 | AT15: 4.12 | AU15: 0.5 | AV15: 0 | AW15: 1846.21 | AX15: 1099.43 | AY15: 0 | AZ15: 0 | BA15: 102.78 | BB15: 21025.18 | BC15: 0
B16: 1 | C16: 2 | D16: 110496543 | E16: ЛСР №ЛС-02-02-01 | G16: Коллектор по Гоголевскому спуску от ул. Свердлова до ОСК | H16: 4 | I16: 0 | J16: 53 | K16: 55395 | L16: 3 | M16: 110496613 | N16: 1 | O16: 106577040 | P16: 0 | Q16: 0 | R16: 2875.2219 | AH16: ЕР | AI16: 86481.82 | AJ16: 0 | AK16: 0 | AL16: 0 | AM16: 86481.82 | AN16: 0 | AO16: 58703.81 | AP16: 77250.96 | AQ16: 12749.05 | AR16: 1080.94 | AS16: 4409.73 | AT16: 12.07 | AU16: 2.11 | AV16: 0 | AW16: 5850.09 | AX16: 3380.77 | AY16: 0 | AZ16: 0 | BA16: 307.43 | BB16: 86481.82 | BC16: 0
B17: 1 | C17: 2 | D17: 110630428 | E17: ЛСР №ЛС-02-03-01 | G17: Коллектор по ул. Шпальная, на участке от ул. Кутузова до ул.Почтовая | H17: 4 | I17: 0 | J17: 61 | K17: 55409 | L17: 3 | M17: 110630498 | N17: 1 | O17: 106577040 | P17: 0 | Q17: 0 | R17: 1860.4379 | AH17: ЕР | AI17: 55949.55 | AJ17: 0 | AK17: 0 | AL17: 0 | AM17: 55949.55 | AN17: 0 | AO17: 34888.57 | AP17: 48833.45 | AQ17: 9233.72 | AR17: 618.92 | AS17: 3872.59 | AT17: 10.82 | AU17: 1.21 | AV17: 0 | AW17: 4572.11 | AX17: 2543.99 | AY17: 0 | AZ17: 0 | BA17: 219.65 | BB17: 55949.55 | BC17: 0
B18: 1 | C18: 2 | D18: 110668641 | E18: ЛСР №ЛС-02-04-01 | G18: Напорный коллектор от КНС №1 по ул. Садовая, ул. Академика Крылова, ул. Ленина до пересечения с ул. Комиссариатская | H18: 4 | I18: 0 | J18: 65 | K18: 55414 | L18: 3 | M18: 110668711 | N18: 1 | O18: 106577040 | P18: 0 | Q18: 0 | R18: 3586.5053 | AH18: ЕР | AI18: 56666.72 | AJ18: 0 | AK18: 0 | AL18: 0 | AM18: 56666.72 | AN18: 0 | AO18: 31233.04 | AP18: 50075.29 | AQ18: 14431.8 | AR18: 1820.08 | AS18: 2474.61 | AT18: 6.57 | AU18: 3.85 | AV18: 0 | AW18: 4440.43 | AX18: 2151.01 | AY18: 0 | AZ18: 0 | BA18: 115.75 | BB18: 56666.72 | BC18: 0
B19: 1 | C19: 2 | D19: 110634466 | E19: ЛСР №ЛС-02-05-01 | G19: Напорный коллектор КНС №2 по ул. Чебоксарская и ул. Ленина до ул. Маяковского, 20 (камера гашения) | H19: 4 | I19: 0 | J19: 62 | K19: 55410 | L19: 3 | M19: 110634536 | N19: 1 | O19: 106577040 | P19: 0 | Q19: 0 | R19: 2379.1601 | AH19: ЕР | AI19: 47135.95 | AJ19: 0 | AK19: 0 | AL19: 0 | AM19: 47135.95 | AN19: 0 | AO19: 25457.51 | AP19: 41710.2 | AQ19: 12580.86 | AR19: 1082.27 | AS19: 2463.6 | AT19: 6.85 | AU19: 2.14 | AV19: 0 | AW19: 3588.29 | AX19: 1837.47 | AY19: 0 | AZ19: 0 | BA19: 125.97 | BB19: 47135.95 | BC19: 0
B20: 1 | C20: 2 | D20: 110636620 | E20: ЛСР №ЛС-02-06-01 | G20: Канализационная сеть по ул. Ленина от ул. Комиссариатская до ул. Троицкая | H20: 4 | I20: 0 | J20: 59 | K20: 55407 | L20: 3 | M20: 110636690 | N20: 1 | O20: 106577040 | P20: 0 | Q20: 0 | R20: 4087.086 | AH20: ЕР | AI20: 119634.55 | AJ20: 0 | AK20: 0 | AL20: 0 | AM20: 119634.55 | AN20: 0 | AO20: 80172.54 | AP20: 104761.16 | AQ20: 15134.07 | AR20: 1393.87 | AS20: 7196.62 | AT20: 19.69 | AU20: 2.78 | AV20: 0 | AW20: 9286.71 | AX20: 5586.68 | AY20: 0 | AZ20: 0 | BA20: 864.07 | BB20: 119634.55 | BC20: 0
B21: 1 | C21: 2 | D21: 110638652 | E21: ЛСР №ЛС-02-07-01 | G21: Канализационная сеть по ул. Советская от школы №3 до ул. Гончарова | H21: 4 | I21: 0 | J21: 60 | K21: 55408 | L21: 3 | M21: 110638722 | N21: 1 | O21: 106577040 | P21: 0 | Q21: 0 | R21: 2688.4986 | AH21: ЕР | AI21: 66631.68 | AJ21: 0 | AK21: 0 | AL21: 0 | AM21: 66631.68 | AN21: 0 | AO21: 41921.19 | AP21: 57421.25 | AQ21: 9827.54 | AR21: 1078.63 | AS21: 4364.92 | AT21: 12.17 | AU21: 2.12 | AV21: 0 | AW21: 5816.96 | AX21: 3393.47 | AY21: 0 | AZ21: 0 | BA21: 228.96 | BB21: 66631.68 | BC21: 0
B22: 1 | C22: 2 | D22: 110677113 | E22: ЛСР №ЛС-02-08-01 | G22: Канализационная сеть по ул. Гончарова от к/т «Октябрь» до ул. Ленина | H22: 4 | I22: 0 | J22: 64 | K22: 55413 | L22: 3 | M22: 110677183 | N22: 1 | O22: 106577040 | P22: 0 | Q22: 0 | R22: 1741.7674 | AH22: ЕР | AI22: 30415.13 | AJ22: 0 | AK22: 0 | AL22: 0 | AM22: 30415.13 | AN22: 0 | AO22: 16098.99 | AP22: 26591.4 | AQ22: 8163 | AR22: 921.36 | AS22: 1366.02 | AT22: 3.47 | AU22: 1.94 | AV22: 0 | AW22: 2515.34 | AX22: 1308.39 | AY22: 0 | AZ22: 0 | BA22: 42.04 | BB22: 30415.13 | BC22: 0
B23: 1 | F23: Гл. 3 | G23: Глава 3. Объекты подсобного и обслуживающего назначения. | H23: 5 | I23: 0 | J23: 0 | K23: 9 | L23: 0 | M23: 0 | N23: 0 | O23: 3 | P23: 0 | Q23: 0 | R23: 0 | AI23: 0 | AJ23: 0 | AK23: 0 | AL23: 0 | AM23: 0 | AN23: 0 | AO23: 0 | AP23: 0 | AQ23: 0 | AR23: 0 | AS23: 0 | AT23: 0 | AU23: 0 | AV23: 0 | AW23: 0 | AX23: 0 | AY23: 0 | AZ23: 0 | BA23: 0 | BB23: 0 | BC23: 0
B24: 1 | F24: Гл. 4 | G24: Глава 4. Объекты энергетического хозяйства. | H24: 6 | I24: 0 | J24: 0 | K24: 10 | L24: 0 | M24: 0 | N24: 0 | O24: 4 | P24: 0 | Q24: 0 | R24: 0 | AI24: 0 | AJ24: 0 | AK24: 0 | AL24: 0 | AM24: 0 | AN24: 0 | AO24: 0 | AP24: 0 | AQ24: 0 | AR24: 0 | AS24: 0 | AT24: 0 | AU24: 0 | AV24: 0 | AW24: 0 | AX24: 0 | AY24: 0 | AZ24: 0 | BA24: 0 | BB24: 0 | BC24: 0
B25: 1 | F25: Гл. 5 | G25: Глава 5. Объекты транспортного хозяйства и связи. | H25: 7 | I25: 0 | J25: 0 | K25: 11 | L25: 0 | M25: 0 | N25: 0 | O25: 5 | P25: 0 | Q25: 0 | R25: 0 | AI25: 0 | AJ25: 0 | AK25: 0 | AL25: 0 | AM25: 0 | AN25: 0 | AO25: 0 | AP25: 0 | AQ25: 0 | AR25: 0 | AS25: 0 | AT25: 0 | AU25: 0 | AV25: 0 | AW25: 0 | AX25: 0 | AY25: 0 | AZ25: 0 | BA25: 0 | BB25: 0 | BC25: 0
B26: 1 | F26: Гл. 6 | G26: Глава 6. Наружные сети и сооружения водоснабжения, водоотведения, теплоснабжения и газоснабжения. | H26: 8 | I26: 0 | J26: 0 | K26: 12 | L26: 0 | M26: 0 | N26: 0 | O26: 6 | P26: 0 | Q26: 0 | R26: 0 | AI26: 0 | AJ26: 0 | AK26: 0 | AL26: 0 | AM26: 0 | AN26: 0 | AO26: 0 | AP26: 0 | AQ26: 0 | AR26: 0 | AS26: 0 | AT26: 0 | AU26: 0 | AV26: 0 | AW26: 0 | AX26: 0 | AY26: 0 | AZ26: 0 | BA26: 0 | BB26: 0 | BC26: 0
B27: 1 | F27: Гл. 7 | G27: Глава 7. Благоустройство и озеленение территории. | H27: 9 | I27: 0 | J27: 0 | K27: 13 | L27: 0 | M27: 0 | N27: 0 | O27: 7 | P27: 0 | Q27: 0 | R27: 0 | AI27: 0 | AJ27: 0 | AK27: 0 | AL27: 0 | AM27: 0 | AN27: 0 | AO27: 0 | AP27: 0 | AQ27: 0 | AR27: 0 | AS27: 0 | AT27: 0 | AU27: 0 | AV27: 0 | AW27: 0 | AX27: 0 | AY27: 0 | AZ27: 0 | BA27: 0 | BB27: 0 | BC27: 0
B28: 1 | F28: Ит 1-7 | G28: Итого по главам 1 - 7 | H28: 10 | I28: 0 | J28: 0 | K28: 60 | L28: 9 | M28: 0 | N28: 0 | O28: 0 | P28: 0 | Q28: 0 | R28: 0 | S28: -1 | T28: 0 | W28: -1 | X28: 0 | AA28: -1 | AB28: 0 | AE28: 0 | AF28: 0 | AG28: 0 | AI28: 483940.58 | AJ28: 0 | AK28: 0 | AL28: 170.11 | AM28: 484110.69 | AN28: 0 | AO28: 0 | AP28: 0 | AQ28: 0 | AR28: 0 | AS28: 0 | AT28: 0 | AU28: 0 | AV28: 0 | AW28: 0 | AX28: 0 | AY28: 0 | AZ28: 0 | BA28: 0 | BB28: 483940.58 | BC28: 0
B29: 0 | F29: 1-7 | G29: Итого по главам 1 - 7 | H29: 10 | I29: 12 | J29: 0 | K29: 63 | L29: 0 | M29: 0 | N29: 0 | O29: 0 | P29: 0 | Q29: 0 | R29: 0 | S29: -1 | T29: 0 | W29: -1 | X29: 0 | AA29: -1 | AB29: 0 | AE29: 0 | AF29: 0 | AG29: 0 | AH29: Прочие | AI29: 483940.58 | AJ29: 0 | AK29: 0 | AL29: 170.11 | AM29: 484110.69 | AN29: 0 | AO29: 0 | AP29: 0 | AQ29: 0 | AR29: 0 | AS29: 0 | AT29: 0 | AU29: 0 | AV29: 0 | AW29: 0 | AX29: 0 | AY29: 0 | AZ29: 0 | BA29: 0 | BB29: 483940.58 | BC29: 0
B30: 1 | F30: Гл. 8 | G30: Глава 8. Временные здания и сооружения. | H30: 11 | I30: 0 | J30: 0 | K30: 14 | L30: 0 | M30: 0 | N30: 0 | O30: 8 | P30: 0 | Q30: 0 | R30: 0 | S30: -1 | T30: 0 | AF30: 0 | AI30: 5807.29 | AJ30: 0 | AK30: 0 | AL30: 0 | AM30: 5807.29 | AN30: 0 | AO30: 0 | AP30: 0 | AQ30: 0 | AR30: 0 | AS30: 0 | AT30: 0 | AU30: 0 | AV30: 0 | AW30: 0 | AX30: 0 | AY30: 0 | AZ30: 0 | BA30: 0 | BB30: 5807.29 | BC30: 0
B31: 1 | E31: Приказ №332/пр от 19.06.2020 г. (с изм №534/пр от 13.08.2024 г.) | F31: Итог 2 | G31: Временные здания и сооружения (п.41) - 1,5% с К-0,8 | H31: 11 | I31: 13 | J31: 0 | K31: 399 | L31: 0 | M31: 0 | N31: 0 | O31: 0 | P31: 0 | Q31: 0 | R31: 0 | S31: -1 | T31: 0 | AF31: 0 | AH31: СН | AI31: 5807.29 | AJ31: 0 | AK31: 0 | AL31: 0 | AM31: 5807.29 | AN31: 0 | AO31: 0 | AP31: 0 | AQ31: 0 | AR31: 0 | AS31: 0 | AT31: 0 | AU31: 0 | AV31: 0 | AW31: 0 | AX31: 0 | AY31: 0 | AZ31: 0 | BA31: 0 | BB31: 5807.29 | BC31: 0
B32: 1 | F32: Ит 1-8 | G32: Итого по главам 1 - 8 | H32: 12 | I32: 0 | J32: 0 | K32: 61 | L32: 9 | M32: 0 | N32: 0 | O32: 0 | P32: 0 | Q32: 0 | R32: 0 | S32: -1 | T32: 0 | W32: -1 | X32: 0 | AA32: -1 | AB32: 0 | AE32: 0 | AF32: 0 | AG32: 0 | AI32: 489747.87 | AJ32: 0 | AK32: 0 | AL32: 170.11 | AM32: 489917.98 | AN32: 0 | AO32: 0 | AP32: 0 | AQ32: 0 | AR32: 0 | AS32: 0 | AT32: 0 | AU32: 0 | AV32: 0 | AW32: 0 | AX32: 0 | AY32: 0 | AZ32: 0 | BA32: 0 | BB32: 489747.87 | BC32: 0
B33: 0 | F33: 1-8 | G33: Итого по главам 1 - 8 | H33: 12 | I33: 1 | J33: 0 | K33: 64 | L33: 0 | M33: 0 | N33: 0 | O33: 0 | P33: 0 | Q33: 0 | R33: 0 | S33: -1 | T33: 0 | W33: -1 | X33: 0 | AA33: -1 | AB33: 0 | AE33: 0 | AF33: 0 | AG33: 0 | AH33: Прочие | AI33: 489747.87 | AJ33: 0 | AK33: 0 | AL33: 170.11 | AM33: 489917.98 | AN33: 0 | AO33: 0 | AP33: 0 | AQ33: 0 | AR33: 0 | AS33: 0 | AT33: 0 | AU33: 0 | AV33: 0 | AW33: 0 | AX33: 0 | AY33: 0 | AZ33: 0 | BA33: 0 | BB33: 489747.87 | BC33: 0
B34: 1 | F34: Гл. 9 | G34: Глава 9. Прочие работы и затраты. | H34: 13 | I34: 0 | J34: 0 | K34: 16 | L34: 0 | M34: 0 | N34: 0 | O34: 9 | P34: 0 | Q34: 0 | R34: 0 | S34: -1 | T34: 0 | W34: -1 | X34: 0 | AA34: -1 | AB34: 0 | AE34: 0 | AF34: 0 | AG34: 0 | AI34: 16651.43 | AJ34: 0 | AK34: 0 | AL34: 830.2 | AM34: 17481.63 | AN34: 0 | AO34: 0 | AP34: 0 | AQ34: 0 | AR34: 0 | AS34: 0 | AT34: 0 | AU34: 0 | AV34: 0 | AW34: 0 | AX34: 0 | AY34: 0 | AZ34: 0 | BA34: 0 | BB34: 16651.43 | BC34: 0
B35: 1 | E35: Приказ №325/пр от 25.05.2021 г. (с изм. №170/пр от 25.03.2025 г.) | F35: Итог 1 | G35: Дополнительные затраты при производстве работ в зимнее время (п.77) - 3,4% | H35: 13 | I35: 1 | J35: 0 | K35: 1207 | L35: 0 | M35: 0 | N35: 0 | O35: 0 | P35: 0 | Q35: 0 | R35: 0 | S35: -1 | T35: 0 | W35: -1 | X35: 0 | AA35: -1 | AB35: 0 | AE35: 0 | AF35: 0 | AG35: 0 | AH35: Прочие | AI35: 16651.43 | AJ35: 0 | AK35: 0 | AL35: 0 | AM35: 16651.43 | AN35: 0 | AO35: 0 | AP35: 0 | AQ35: 0 | AR35: 0 | AS35: 0 | AT35: 0 | AU35: 0 | AV35: 0 | AW35: 0 | AX35: 0 | AY35: 0 | AZ35: 0 | BA35: 0 | BB35: 16651.43 | BC35: 0
B36: 1 | E36: Расчет №2 | F36: Итог 3 | G36: Расчет платы размещения строительного мусора на полигоне ТБО | H36: 13 | I36: 6 | J36: 0 | K36: 55171 | L36: 0 | M36: 0 | N36: 0 | O36: 0 | P36: 0 | Q36: 0 | R36: 0 | S36: -1 | T36: 0 | W36: -1 | X36: 0 | AA36: -1 | AB36: 0 | AE36: 0 | AF36: 0 | AG36: 0 | AH36: Прочие | AI36: 0 | AJ36: 0 | AK36: 0 | AL36: 830.2 | AM36: 830.2 | AN36: 0 | AO36: 0 | AP36: 0 | AQ36: 0 | AR36: 0 | AS36: 0 | AT36: 0 | AU36: 0 | AV36: 0 | AW36: 0 | AX36: 0 | AY36: 0 | AZ36: 0 | BA36: 0 | BB36: 0 | BC36: 0
B37: 1 | F37: Ит 1-9 | G37: Итого по главам 1 - 9 | H37: 15 | I37: 0 | J37: 0 | K37: 62 | L37: 9 | M37: 0 | N37: 0 | O37: 0 | P37: 0 | Q37: 0 | R37: 0 | S37: -1 | T37: 0 | W37: -1 | X37: 0 | AA37: -1 | AB37: 0 | AE37: 0 | AF37: 0 | AG37: 0 | AI37: 506399.3 | AJ37: 0 | AK37: 0 | AL37: 1000.31 | AM37: 507399.61 | AN37: 0 | AO37: 0 | AP37: 0 | AQ37: 0 | AR37: 0 | AS37: 0 | AT37: 0 | AU37: 0 | AV37: 0 | AW37: 0 | AX37: 0 | AY37: 0 | AZ37: 0 | BA37: 0 | BB37: 506399.3 | BC37: 0
B38: 0 | F38: 1-9 | G38: Итого по главам 1 - 9 | H38: 15 | I38: 1 | J38: 0 | K38: 65 | L38: 0 | M38: 0 | N38: 0 | O38: 0 | P38: 0 | Q38: 0 | R38: 0 | S38: -1 | T38: 0 | W38: -1 | X38: 0 | AA38: -1 | AB38: 0 | AE38: 0 | AF38: 0 | AG38: 0 | AH38: Прочие | AI38: 506399.3 | AJ38: 0 | AK38: 0 | AL38: 1000.31 | AM38: 507399.61 | AN38: 0 | AO38: 0 | AP38: 0 | AQ38: 0 | AR38: 0 | AS38: 0 | AT38: 0 | AU38: 0 | AV38: 0 | AW38: 0 | AX38: 0 | AY38: 0 | AZ38: 0 | BA38: 0 | BB38: 506399.3 | BC38: 0
B39: 1 | F39: Гл. 10 | G39: Глава 10. Содержание службы заказчика. Строительный контроль. | H39: 16 | I39: 0 | J39: 0 | K39: 43 | L39: 0 | M39: 0 | N39: 0 | O39: 10 | P39: 0 | Q39: 0 | R39: 0 | S39: -1 | T39: 0 | W39: -1 | X39: 0 | AA39: -1 | AB39: 0 | AE39: 0 | AF39: 0 | AG39: 0 | AI39: 0 | AJ39: 0 | AK39: 0 | AL39: 9792.81 | AM39: 9792.81 | AN39: 0 | AO39: 0 | AP39: 0 | AQ39: 0 | AR39: 0 | AS39: 0 | AT39: 0 | AU39: 0 | AV39: 0 | AW39: 0 | AX39: 0 | AY39: 0 | AZ39: 0 | BA39: 0 | BB39: 0 | BC39: 0
B40: 1 | E40: Пост. Правительства РФ №468 от 21.06.2010 г. | F40: 162 | G40: Строительный контроль - 1,93%. | H40: 16 | I40: 1 | J40: 0 | K40: 349 | L40: 0 | M40: 0 | N40: 0 | O40: 0 | P40: 0 | Q40: 0 | R40: 0 | S40: -1 | T40: 0 | W40: -1 | X40: 0 | AA40: -1 | AB40: 0 | AE40: 0 | AF40: 0 | AG40: 0 | AH40: Прочие | AI40: 0 | AJ40: 0 | AK40: 0 | AL40: 9792.81 | AM40: 9792.81 | AN40: 0 | AO40: 0 | AP40: 0 | AQ40: 0 | AR40: 0 | AS40: 0 | AT40: 0 | AU40: 0 | AV40: 0 | AW40: 0 | AX40: 0 | AY40: 0 | AZ40: 0 | BA40: 0 | BB40: 0 | BC40: 0
B41: 1 | F41: Ит 1-10 | G41: Итого по главам 1 - 10 | H41: 17 | I41: 0 | J41: 0 | K41: 725 | L41: 9 | M41: 0 | N41: 0 | O41: 0 | P41: 0 | Q41: 0 | R41: 0 | S41: -1 | T41: 0 | W41: -1 | X41: 0 | AA41: -1 | AB41: 0 | AE41: 0 | AF41: 0 | AG41: 0 | AI41: 506399.3 | AJ41: 0 | AK41: 0 | AL41: 10793.12 | AM41: 517192.42 | AN41: 0 | AO41: 0 | AP41: 0 | AQ41: 0 | AR41: 0 | AS41: 0 | AT41: 0 | AU41: 0 | AV41: 0 | AW41: 0 | AX41: 0 | AY41: 0 | AZ41: 0 | BA41: 0 | BB41: 506399.3 | BC41: 0
B42: 0 | F42: 1-10 | G42: Итого по главам 1 - 10 | H42: 17 | I42: 1 | J42: 0 | K42: 726 | L42: 0 | M42: 0 | N42: 0 | O42: 0 | P42: 0 | Q42: 0 | R42: 0 | S42: -1 | T42: 0 | W42: -1 | X42: 0 | AA42: -1 | AB42: 0 | AE42: 0 | AF42: 0 | AG42: 0 | AH42: Прочие | AI42: 506399.3 | AJ42: 0 | AK42: 0 | AL42: 10793.12 | AM42: 517192.42 | AN42: 0 | AO42: 0 | AP42: 0 | AQ42: 0 | AR42: 0 | AS42: 0 | AT42: 0 | AU42: 0 | AV42: 0 | AW42: 0 | AX42: 0 | AY42: 0 | AZ42: 0 | BA42: 0 | BB42: 506399.3 | BC42: 0
B43: 0 | F43: Гл. 11 | G43: Глава 11. Подготовка эксплуатационных кадров для строящегося объекта капитального строительства. | H43: 20 | I43: 0 | J43: 0 | K43: 46 | L43: 0 | M43: 0 | N43: 0 | O43: 11 | P43: 0 | Q43: 0 | R43: 0 | S43: -1 | T43: 0 | W43: -1 | X43: 0 | AA43: -1 | AB43: 0 | AE43: 0 | AF43: 0 | AG43: 0 | AI43: 0 | AJ43: 0 | AK43: 0 | AL43: 0 | AM43: 0 | AN43: 0 | AO43: 0 | AP43: 0 | AQ43: 0 | AR43: 0 | AS43: 0 | AT43: 0 | AU43: 0 | AV43: 0 | AW43: 0 | AX43: 0 | AY43: 0 | AZ43: 0 | BA43: 0 | BB43: 0 | BC43: 0
B44: 0 | F44: 170 | G44: Подготовка эксплуатационных кадров для строящегося объекта капитального строительства. | H44: 20 | I44: 1 | J44: 0 | K44: 394 | L44: 0 | M44: 0 | N44: 0 | O44: 0 | P44: 0 | Q44: 0 | R44: 0 | S44: -1 | T44: 0 | W44: -1 | X44: 0 | AA44: -1 | AB44: 0 | AE44: 0 | AF44: 0 | AG44: 0 | AH44: Прочие | AI44: 0 | AJ44: 0 | AK44: 0 | AL44: 0 | AM44: 0 | AN44: 0 | AO44: 0 | AP44: 0 | AQ44: 0 | AR44: 0 | AS44: 0 | AT44: 0 | AU44: 0 | AV44: 0 | AW44: 0 | AX44: 0 | AY44: 0 | AZ44: 0 | BA44: 0 | BB44: 0 | BC44: 0
B45: 0 | F45: Ит 1-11 | G45: Итого по главам 1 - 11 | H45: 21 | I45: 0 | J45: 0 | K45: 727 | L45: 9 | M45: 0 | N45: 0 | O45: 0 | P45: 0 | Q45: 0 | R45: 0 | S45: -1 | T45: 0 | W45: -1 | X45: 0 | AA45: -1 | AB45: 0 | AE45: 0 | AF45: 0 | AG45: 0 | AI45: 506399.3 | AJ45: 0 | AK45: 0 | AL45: 10793.12 | AM45: 517192.42 | AN45: 0 | AO45: 0 | AP45: 0 | AQ45: 0 | AR45: 0 | AS45: 0 | AT45: 0 | AU45: 0 | AV45: 0 | AW45: 0 | AX45: 0 | AY45: 0 | AZ45: 0 | BA45: 0 | BB45: 506399.3 | BC45: 0
B46: 0 | F46: 1-11 | G46: Итого по главам 1 - 11 | H46: 21 | I46: 1 | J46: 0 | K46: 728 | L46: 0 | M46: 0 | N46: 0 | O46: 0 | P46: 0 | Q46: 0 | R46: 0 | S46: -1 | T46: 0 | W46: -1 | X46: 0 | AA46: -1 | AB46: 0 | AE46: 0 | AF46: 0 | AG46: 0 | AH46: Прочие | AI46: 506399.3 | AJ46: 0 | AK46: 0 | AL46: 10793.12 | AM46: 517192.42 | AN46: 0 | AO46: 0 | AP46: 0 | AQ46: 0 | AR46: 0 | AS46: 0 | AT46: 0 | AU46: 0 | AV46: 0 | AW46: 0 | AX46: 0 | AY46: 0 | AZ46: 0 | BA46: 0 | BB46: 506399.3 | BC46: 0
B47: 1 | F47: Гл. 12 | G47: Глава 12. Публичный технологический и ценовой аудит, подготовка обоснования инвестиций, осуществляемых в инвестиционный проект по созданию объекта капитального строительства, в отношении которого планируется заключение контракта, предметом которого является одновременно выполнение работ по проектированию, строительству и вводу в эксплуатацию объекта капитального строительства, технологический и ценовой аудит такого обоснования инвестиций, аудит проектной документации, проектные и изыскательские работы. | H47: 22 | I47: 0 | J47: 0 | K47: 47 | L47: 0 | M47: 0 | N47: 0 | O47: 12 | P47: 0 | Q47: 0 | R47: 0 | S47: -1 | T47: 0 | W47: -1 | X47: 0 | AA47: -1 | AB47: 0 | AE47: 0 | AF47: 0 | AG47: 0 | AI47: 0 | AJ47: 0 | AK47: 0 | AL47: 1014.8 | AM47: 1014.8 | AN47: 0 | AO47: 0 | AP47: 0 | AQ47: 0 | AR47: 0 | AS47: 0 | AT47: 0 | AU47: 0 | AV47: 0 | AW47: 0 | AX47: 0 | AY47: 0 | AZ47: 0 | BA47: 0 | BB47: 0 | BC47: 0
B48: 0 | F48: 171.д | G48: Подготовка проектной и рабочей документации | H48: 22 | I48: 5 | J48: 0 | K48: 337 | L48: 0 | M48: 0 | N48: 0 | O48: 0 | P48: 0 | Q48: 0 | R48: 0 | S48: -1 | T48: 0 | W48: -1 | X48: 0 | AA48: -1 | AB48: 0 | AE48: 0 | AF48: 0 | AG48: 0 | AH48: Прочие | AI48: 0 | AJ48: 0 | AK48: 0 | AL48: 0 | AM48: 0 | AN48: 0 | AO48: 0 | AP48: 0 | AQ48: 0 | AR48: 0 | AS48: 0 | AT48: 0 | AU48: 0 | AV48: 0 | AW48: 0 | AX48: 0 | AY48: 0 | AZ48: 0 | BA48: 0 | BB48: 0 | BC48: 0
B49: 1 | E49: Приказ Минстроя РФ № 421/пр от 04.08.2020 г., п.171 | F49: 171.з | G49: Проведение авторского надзора - 0,2% | H49: 22 | I49: 9 | J49: 0 | K49: 340 | L49: 0 | M49: 0 | N49: 0 | O49: 0 | P49: 0 | Q49: 0 | R49: 0 | S49: -1 | T49: 0 | W49: -1 | X49: 0 | AA49: -1 | AB49: 0 | AE49: 0 | AF49: 0 | AG49: 0 | AH49: Прочие | AI49: 0 | AJ49: 0 | AK49: 0 | AL49: 1014.8 | AM49: 1014.8 | AN49: 0 | AO49: 0 | AP49: 0 | AQ49: 0 | AR49: 0 | AS49: 0 | AT49: 0 | AU49: 0 | AV49: 0 | AW49: 0 | AX49: 0 | AY49: 0 | AZ49: 0 | BA49: 0 | BB49: 0 | BC49: 0
B50: 1 | F50: Ит 1-12 | G50: Итого по главам 1-12 | H50: 23 | I50: 0 | J50: 0 | K50: 55 | L50: 9 | M50: 0 | N50: 0 | O50: 0 | P50: 0 | Q50: 0 | R50: 0 | S50: -1 | T50: 0 | W50: -1 | X50: 0 | AA50: -1 | AB50: 0 | AE50: 0 | AF50: 0 | AG50: 0 | AI50: 506399.3 | AJ50: 0 | AK50: 0 | AL50: 11807.92 | AM50: 518207.22 | AN50: 0 | AO50: 0 | AP50: 0 | AQ50: 0 | AR50: 0 | AS50: 0 | AT50: 0 | AU50: 0 | AV50: 0 | AW50: 0 | AX50: 0 | AY50: 0 | AZ50: 0 | BA50: 0 | BB50: 506399.3 | BC50: 0
B51: 0 | F51: 1-12 | G51: Итого по главам 1 - 12 | H51: 23 | I51: 1 | J51: 0 | K51: 56 | L51: 0 | M51: 0 | N51: 0 | O51: 0 | P51: 0 | Q51: 0 | R51: 0 | S51: -1 | T51: 0 | W51: -1 | X51: 0 | AA51: -1 | AB51: 0 | AE51: 0 | AF51: 0 | AG51: 0 | AH51: Прочие | AI51: 506399.3 | AJ51: 0 | AK51: 0 | AL51: 11807.92 | AM51: 518207.22 | AN51: 0 | AO51: 0 | AP51: 0 | AQ51: 0 | AR51: 0 | AS51: 0 | AT51: 0 | AU51: 0 | AV51: 0 | AW51: 0 | AX51: 0 | AY51: 0 | AZ51: 0 | BA51: 0 | BB51: 506399.3 | BC51: 0
B52: 1 | F52: Непредв | G52: Резерв средств на непредвиденные работы и затраты | H52: 24 | I52: 0 | J52: 0 | K52: 292 | L52: 0 | M52: 0 | N52: 0 | O52: 13 | P52: 0 | Q52: 0 | R52: 0 | S52: -1 | T52: 0 | W52: -1 | X52: 0 | AA52: -1 | AB52: 0 | AE52: 0 | AF52: 0 | AG52: 0 | AI52: 15191.98 | AJ52: 0 | AK52: 0 | AL52: 354.24 | AM52: 15546.22 | AN52: 0 | AO52: 0 | AP52: 0 | AQ52: 0 | AR52: 0 | AS52: 0 | AT52: 0 | AU52: 0 | AV52: 0 | AW52: 0 | AX52: 0 | AY52: 0 | AZ52: 0 | BA52: 0 | BB52: 15191.98 | BC52: 0
B53: 1 | E53: Приказ Минстроя РФ № 421/пр от 04.08.2020 г., п.179,б | F53: 179 | G53: Резерв средств на непредвиденные работы и затраты - 3% | H53: 24 | I53: 2 | J53: 0 | K53: 487 | L53: 0 | M53: 0 | N53: 0 | O53: 0 | P53: 0 | Q53: 0 | R53: 0 | S53: -1 | T53: 0 | W53: -1 | X53: 0 | AA53: -1 | AB53: 0 | AE53: 0 | AF53: 0 | AG53: 0 | AH53: СН | AI53: 15191.98 | AJ53: 0 | AK53: 0 | AL53: 354.24 | AM53: 15546.22 | AN53: 0 | AO53: 0 | AP53: 0 | AQ53: 0 | AR53: 0 | AS53: 0 | AT53: 0 | AU53: 0 | AV53: 0 | AW53: 0 | AX53: 0 | AY53: 0 | AZ53: 0 | BA53: 0 | BB53: 15191.98 | BC53: 0
B54: 1 | F54: Ит. с непредв. | G54: Итого с непредвиденными | H54: 25 | I54: 0 | J54: 0 | K54: 294 | L54: 9 | M54: 0 | N54: 0 | O54: 0 | P54: 0 | Q54: 0 | R54: 0 | S54: -1 | T54: 0 | W54: -1 | X54: 0 | AA54: -1 | AB54: 0 | AE54: 0 | AF54: 0 | AG54: 0 | AI54: 521591.28 | AJ54: 0 | AK54: 0 | AL54: 12162.16 | AM54: 533753.44 | AN54: 0 | AO54: 0 | AP54: 0 | AQ54: 0 | AR54: 0 | AS54: 0 | AT54: 0 | AU54: 0 | AV54: 0 | AW54: 0 | AX54: 0 | AY54: 0 | AZ54: 0 | BA54: 0 | BB54: 521591.28 | BC54: 0
B55: 0 | F55: Ит с 179 | G55: Итого с непредвиденными | H55: 25 | I55: 1 | J55: 0 | K55: 295 | L55: 0 | M55: 0 | N55: 0 | O55: 0 | P55: 0 | Q55: 0 | R55: 0 | S55: -1 | T55: 0 | W55: -1 | X55: 0 | AA55: -1 | AB55: 0 | AE55: 0 | AF55: 0 | AG55: 0 | AH55: Прочие | AI55: 521591.28 | AJ55: 0 | AK55: 0 | AL55: 12162.16 | AM55: 533753.44 | AN55: 0 | AO55: 0 | AP55: 0 | AQ55: 0 | AR55: 0 | AS55: 0 | AT55: 0 | AU55: 0 | AV55: 0 | AW55: 0 | AX55: 0 | AY55: 0 | AZ55: 0 | BA55: 0 | BB55: 521591.28 | BC55: 0
B56: 1 | F56: НДС | G56: Средства на покрытие затрат по уплате налога на добавленную стоимость по итогу глав сводного сметного расчета | H56: 26 | I56: 0 | J56: 0 | K56: 298 | L56: 0 | M56: 0 | N56: 0 | O56: 14 | P56: 0 | Q56: 0 | R56: 0 | S56: -1 | T56: 0 | W56: -1 | X56: 0 | AA56: -1 | AB56: 0 | AE56: 0 | AF56: 0 | AG56: 0 | AI56: 114750.08 | AJ56: 0 | AK56: 0 | AL56: 2675.68 | AM56: 117425.76 | AN56: 0 | AO56: 0 | AP56: 0 | AQ56: 0 | AR56: 0 | AS56: 0 | AT56: 0 | AU56: 0 | AV56: 0 | AW56: 0 | AX56: 0 | AY56: 0 | AZ56: 0 | BA56: 0 | BB56: 114750.08 | BC56: 0
B57: 1 | E57: № 425-ФЗ от 25.11.2025 г | F57: 181 | G57: Средства на покрытие затрат по уплате налога на добавленную стоимость по итогу глав сводного сметного расчета (за исключением ст. 149-150 НК РФ) | H57: 26 | I57: 1 | J57: 0 | K57: 299 | L57: 0 | M57: 0 | N57: 0 | O57: 0 | P57: 0 | Q57: 0 | R57: 0 | S57: -1 | T57: 0 | W57: -1 | X57: 0 | AA57: -1 | AB57: 0 | AE57: 0 | AF57: 0 | AG57: 0 | AH57: Прочие | AI57: 114750.08 | AJ57: 0 | AK57: 0 | AL57: 2675.68 | AM57: 117425.76 | AN57: 0 | AO57: 0 | AP57: 0 | AQ57: 0 | AR57: 0 | AS57: 0 | AT57: 0 | AU57: 0 | AV57: 0 | AW57: 0 | AX57: 0 | AY57: 0 | AZ57: 0 | BA57: 0 | BB57: 114750.08 | BC57: 0
B58: 1 | F58: Итого ССРСС | G58: Стоимость в уровне цен на 4 квартал 2025 года с учетом НДС | H58: 28 | I58: 0 | J58: 0 | K58: 169 | L58: 9 | M58: 0 | N58: 0 | O58: 0 | P58: 0 | Q58: 0 | R58: 0 | S58: -1 | T58: 0 | W58: -1 | X58: 0 | AA58: -1 | AB58: 0 | AE58: 0 | AF58: 0 | AG58: 0 | AI58: 636341.36 | AJ58: 0 | AK58: 0 | AL58: 14837.84 | AM58: 651179.2 | AN58: 0 | AO58: 0 | AP58: 0 | AQ58: 0 | AR58: 0 | AS58: 0 | AT58: 0 | AU58: 0 | AV58: 0 | AW58: 0 | AX58: 0 | AY58: 0 | AZ58: 0 | BA58: 0 | BB58: 636341.36 | BC58: 0
B59: 0 | F59: Итого | G59: ИТОГО ПО РАСЧЕТУ | H59: 28 | I59: 1 | J59: 0 | K59: 488 | L59: 0 | M59: 0 | N59: 0 | O59: 0 | P59: 0 | Q59: 0 | R59: 0 | S59: -1 | T59: 0 | W59: -1 | X59: 0 | AA59: -1 | AB59: 0 | AE59: 0 | AF59: 0 | AG59: 0 | AH59: Прочие | AI59: 636341.36 | AJ59: 0 | AK59: 0 | AL59: 14837.84 | AM59: 651179.2 | AN59: 0 | AO59: 0 | AP59: 0 | AQ59: 0 | AR59: 0 | AS59: 0 | AT59: 0 | AU59: 0 | AV59: 0 | AW59: 0 | AX59: 0 | AY59: 0 | AZ59: 0 | BA59: 0 | BB59: 636341.36 | BC59: 0
A61: 400 | B61: 1 | C61: 3 | D61: 1 | E61: ЛС-02-01-01 | F61: Коллектор по ул. Фестивальная, Сурской дамбе, ул. Садовая до КНС №1 | J61: 18079541 | K61: 1475244.7 | L61: 3932951.9 | M61: 252780.68 | N61: 12315785 | O61: 102778.56 | P61: 0 | Q61: 1728025.4 | R61: 1846206.3 | S61: 1099428.2 | T61: 21025175 | U61: 4116.1702 | V61: 498.23196
A62: 400 | B62: 1 | C62: 3 | D62: 2 | E62: ЛС-02-02-01 | F62: Коллектор по Гоголевскому спуску от ул. Свердлова до ОСК | J62: 77250956 | K62: 4409726.3 | L62: 12749054 | M62: 1080935.7 | N62: 58703809 | O62: 307430.76 | P62: 0 | Q62: 5490661.9 | R62: 5850088.3 | S62: 3380772.7 | T62: 86481817 | U62: 12070.06 | V62: 2110.65
A63: 400 | B63: 1 | C63: 3 | D63: 3 | E63: ЛС-02-03-01 | F63: Коллектор по ул. Шпальная, на участке от ул. Кутузова до ул.Почтовая | J63: 48833451 | K63: 3872590 | L63: 9233718.2 | M63: 618919.76 | N63: 34888575 | O63: 219648.03 | P63: 0 | Q63: 4491509.7 | R63: 4572108.7 | S63: 2543991.9 | T63: 55949551 | U63: 10818.167 | V63: 1212.7801
A64: 400 | B64: 1 | C64: 3 | D64: 4 | E64: ЛС-02-04-01 | F64: Напорный коллектор от КНС №1 по ул. Садовая, ул. Академика Крылова, ул. Ленина до пересечения с ул. Комиссариатская | J64: 50075286 | K64: 2474606.6 | L64: 14431802 | M64: 1820080.7 | N64: 31233044 | O64: 115752.08 | P64: 0 | Q64: 4294687.2 | R64: 4440430.2 | S64: 2151008.4 | T64: 56666724 | U64: 6571.6359 | V64: 3853.1808
A65: 400 | B65: 1 | C65: 3 | D65: 5 | E65: ЛС-02-05-01 | F65: Напорный коллектор КНС №2 по ул. Чебоксарская и ул. Ленина до ул. Маяковского, 20 (камера гашения) | J65: 41710200 | K65: 2463603.7 | L65: 12580855 | M65: 1082267.8 | N65: 25457507 | O65: 125965.84 | P65: 0 | Q65: 3545871.5 | R65: 3588289 | S65: 1837465.7 | T65: 47135954 | U65: 6848.4656 | V65: 2136.1034
A66: 400 | B66: 1 | C66: 3 | D66: 6 | E66: ЛС-02-06-01 | F66: Канализационная сеть по ул. Ленина от ул. Комиссариатская до ул. Троицкая | J66: 1.0476116e+08 | K66: 7196617 | L66: 15134073 | M66: 1393867.3 | N66: 80172537 | O66: 864066.8 | P66: 0 | Q66: 8590484.2 | R66: 9286708 | S66: 5586678.4 | T66: 1.1963455e+08 | U66: 19689.536 | V66: 2777.7723
A67: 400 | B67: 1 | C67: 3 | D67: 7 | E67: ЛС-02-07-01 | F67: Канализационная сеть по ул. Советская от школы №3 до ул. Гончарова | J67: 57421250 | K67: 4364922.1 | L67: 9827542.5 | M67: 1078634.1 | N67: 41921188 | O67: 228963.76 | P67: 0 | Q67: 5443556.2 | R67: 5816957.8 | S67: 3393473.8 | T67: 66631682 | U67: 12173.355 | V67: 2122.4164
A68: 400 | B68: 1 | C68: 3 | D68: 8 | E68: ЛС-02-08-01 | F68: Канализационная сеть по ул. Гончарова от к/т «Октябрь» до ул. Ленина | J68: 26591404 | K68: 1366015.6 | L68: 8162998.1 | M68: 921356.08 | N68: 16098994 | O68: 42040.02 | P68: 0 | Q68: 2287371.6 | R68: 2515335.9 | S68: 1308393 | T68: 30415133 | U68: 3471.1977 | V68: 1944.959
A69: 400 | B69: 1 | C69: 0 | J69: 4.2472325e+08 | K69: 27623326 | L69: 86052995 | M69: 8248842 | N69: 3.0079144e+08 | O69: 2006645.8 | P69: 0 | Q69: 35872168 | R69: 37916124 | S69: 21301212 | T69: 4.8394058e+08 | U69: 75758.587 | V69: 16656.094
A71: 444
B72: 110494802 | D72: 1 | E72: ЛС-02-01-01 | G72: Коллектор по ул. Фестивальная, Сурской дамбе, ул. Садовая до КНС №1 | H72: 0 | L72: 10
B73: 110494873 | C73: 15 | D73: 3 | G73: Коллектор по ул. Фестивальная, Сурской дамбе, ул. Садовая до КНС №1 | H73: 0 | K73: 2 | L73: 11
B74: 110496543 | D74: 1 | E74: ЛС-02-02-01 | G74: Коллектор по Гоголевскому спуску от ул. Свердлова до ОСК | H74: 0 | L74: 10
B75: 110496613 | C75: 16 | D75: 3 | G75: Коллектор по Гоголевскому спуску от ул. Свердлова до ОСК | H75: 0 | K75: 2 | L75: 11
B76: 110630428 | D76: 1 | E76: ЛС-02-03-01 | G76: Коллектор по ул. Шпальная, на участке от ул. Кутузова до ул.Почтовая | H76: 0 | L76: 10
B77: 110630498 | C77: 17 | D77: 3 | G77: Коллектор по ул. Шпальная, на участке от ул. Кутузова до ул.Почтовая | H77: 0 | K77: 2 | L77: 11
B78: 110668641 | D78: 1 | E78: ЛС-02-04-01 | G78: Напорный коллектор от КНС №1 по ул. Садовая, ул. Академика Крылова, ул. Ленина до пересечения с ул. Комиссариатская | H78: 0 | L78: 10
B79: 110668711 | C79: 18 | D79: 3 | E79: Новая локальная смета | G79: Напорный коллектор от КНС №1 по ул. Садовая, ул. Академика Крылова, ул. Ленина до пересечения с ул. Комиссариатская | H79: 0 | K79: 2 | L79: 11
B80: 110634466 | D80: 1 | E80: ЛС-02-05-01 | G80: Напорный коллектор КНС №2 по ул. Чебоксарская и ул. Ленина до ул. Маяковского, 20 (камера гашения) | H80: 0 | L80: 10
B81: 110634536 | C81: 19 | D81: 3 | E81: Новая локальная смета | G81: Напорный коллектор КНС №2 по ул. Чебоксарская и ул. Ленина до ул. Маяковского, 20 (камера гашения) | H81: 0 | K81: 2 | L81: 11
B82: 110636620 | D82: 1 | E82: ЛС-02-06-01 | G82: Канализационная сеть по ул. Ленина от ул. Комиссариатская до ул. Троицкая | H82: 0 | L82: 10
B83: 110636690 | C83: 20 | D83: 3 | E83: Новая локальная смета | G83: Канализационная сеть по ул. Ленина от ул. Комиссариатская до ул. Троицкая | H83: 0 | K83: 2 | L83: 11
B84: 110638652 | D84: 1 | E84: ЛС-02-07-01 | G84: Канализационная сеть по ул. Советская от школы №3 до ул. Гончарова | H84: 0 | L84: 10
B85: 110638722 | C85: 21 | D85: 3 | E85: Новая локальная смета | G85: Канализационная сеть по ул. Советская от школы №3 до ул. Гончарова | H85: 0 | K85: 2 | L85: 11
B86: 110677113 | D86: 1 | E86: ЛС-02-08-01 | G86: Канализационная сеть по ул. Гончарова от к/т «Октябрь» до ул. Ленина | H86: 0 | L86: 10
B87: 110677183 | C87: 22 | D87: 3 | E87: Новая локальная смета | G87: Канализационная сеть по ул. Гончарова от к/т «Октябрь» до ул. Ленина | H87: 0 | K87: 2 | L87: 11
A89: 555 | C89: 1 | D89: Глава 1. Подготовка территории строительства | I89: 0 | J89: 0
C90: 1 | D90: Оформление земельного участка | I90: 2 | J90: 0
C91: 1 | D91: Затраты по разбивке основных осей зданий и сооружений | I91: 3 | J91: 0
C92: 1 | D92: Плата за землю при выкупе земельного участка для строительства | I92: 4 | J92: 0
C93: 1 | D93: Затраты, связанные с получением исходных данных и технических условий | I93: 5 | J93: 0
C94: 1 | D94: Археологические раскопки | I94: 6 | J94: 0
C95: 1 | D95: Плата за аренду земельного участка в период строительства | I95: 7 | J95: 0
C96: 1 | D96: Компенсационные выплаты | I96: 8 | J96: 0
C97: 1 | D97: Затраты, связанные с неблагоприятными гидрогеологическими условиями | I97: 9 | J97: 0
C98: 1 | D98: Затраты на устройства объездов для городского транспорта | I98: 10 | J98: 0
C99: 1 | D99: Освобождение территории строительства | I99: 11 | J99: 0
C100: 1 | D100: Осушение территории стройки | I100: 12 | J100: 0
C101: 1 | D101: Затраты на разминирование территории строительства | I101: 13 | J101: 0
... C135: 100 | D135: Пусконаладочные работы (под нагрузкой) | I135: 63 | J135: 0
A137: 600 | C137: врем | D137: Временные здания и сооружения | E137: 1.2
C138: зу | D138: Зимнее удорожание | E138: 3.4
C139: Авторский надзор | D139: Содержание авторского надзора 0,2% | E139: 0.2
C140: НДС 20% | D140: НДС 20% | E140: 22
C141: Непредв расх | D141: Непредвиденные расходы (установить% самостоятельно: 2 - непроизводственного; 3 - производственного, линейные; 10 - уникальные, опасные, сложные) | E141: 3
C142: Проектные | D142: Подготовка проектной и рабочей документации | E142: 0
C143: Стр_контр | D143: Строительный контроль | E143: 1.93
C144: Перем. 1 | D144: Тех. прис | E144: 0
...
