Workbook

Sheet ССР
A1: =Source!B1 -> Smeta.RU (495) 974-1589
A3: Заказчик | C3: =IF(Source!H4<>"",Source!H4," ") -> КУ ЧР "Республиканская служба единого заказчика" Министерства строительства, архитектуры и жилищно-коммунального хозяйства Чувашской Республики | Q3: =IF(Source!H4<>"",Source!H4," ") -> КУ ЧР "Республиканская служба единого заказчика" Министерства строительства, архитектуры и жилищно-коммунального хозяйства Чувашской Республики
A4: (наименование организации)
A6: Утвержден | C6: =IF(Source!AA4<>0, Source!AA4, "") -> 45993
A8: Сводный сметный расчет в сумме | D8: =H91 -> 637598.35 | E8: тыс.руб.
A10: =IF(Source!AB4<>"", Source!AB4, " ")
A11: (ссылка на документ об утверждении)
B12: 46055
A14: СВОДНЫЙ СМЕТНЫЙ РАСЧЕТ СТОИМОСТИ СТРОИТЕЛЬСТВА
A16: =CONCATENATE(Source!G4) -> Реконструкция объектов централизованной системы водоотведения г. Алатырь Чувашской Республики (8 мероприятий по сетям водоотведения, проходящим по улицам: Фестивальная, Садовая, Свердлова, Шпальная, Кутузова, Почтовая, Академика Крылова, Ленина, Комиссариатская, Чебоксарская, Маяковского, Троицкая, Советская, Гончарова, Гоголевский спуск, Сурская дамба) | P16: =CONCATENATE(Source!G4) -> Реконструкция объектов централизованной системы водоотведения г. Алатырь Чувашской Республики (8 мероприятий по сетям водоотведения, проходящим по улицам: Фестивальная, Садовая, Свердлова, Шпальная, Кутузова, Почтовая, Академика Крылова, Ленина, Комиссариатская, Чебоксарская, Маяковского, Троицкая, Советская, Гончарова, Гоголевский спуск, Сурская дамба)
A17: (наименование стройки)
A19: Составлен в базисном уровне цен 4 квартал 2025 г.
A21: № п/п | B21: Обоснование | C21: Наименование глав, объектов капитального строительства, работ и затрат | D21: Сметная стоимость, тыс.руб.
D22: строительных (ремонтно - строительных, ремонтно - реставрационных) работ | E22: монтажных работ | F22: оборудования | G22: прочих затрат | H22: всего
A23: 1 | B23: 2 | C23: 3 | D23: 4 | E23: 5 | F23: 6 | G23: 7 | H23: 8
C24: =Source!G12 -> Глава 1. Подготовка территории строительства, реконструкции, капитального ремонта. | Q24: =Source!G12 -> Глава 1. Подготовка территории строительства, реконструкции, капитального ремонта.
A25: 1 | B25: =Source!E13 -> Расчет №1 | C25: =Source!G13 -> Перенос и закрепление в натуре оси трасс разного назначения: водопровода,канализации, дорог и прочие линейные сооружения | D25: =IF(Source!AI13=0,"-", Source!AI13/1) -> - | E25: =IF(Source!AJ13=0,"-", Source!AJ13/1) -> - | F25: =IF(Source!AK13=0,"-", Source!AK13/1) -> - | G25: =IF(Source!AL13=0,"-", Source!AL13/1) -> 170.11 | H25: =IF(Source!AM13=0,"-", Source!AM13/1) -> 170.11
C26: =CONCATENATE("Итого по ", Source!F12) -> Итого по Гл. 1 | D26: =IF(Source!AI12=0,"-", Source!AI12/1) -> - | E26: =IF(Source!AJ12=0,"-", Source!AJ12/1) -> - | F26: =IF(Source!AK12=0,"-", Source!AK12/1) -> - | G26: =IF(Source!AL12=0,"-", Source!AL12/1) -> 170.11 | H26: =IF(Source!AM12=0,"-", Source!AM12/1) -> 170.11
C28: =Source!G14 -> Глава 2. Основные объекты строительства, реконструкции, капитального ремонта. | Q28: =Source!G14 -> Глава 2. Основные объекты строительства, реконструкции, капитального ремонта.
A29: 2 | B29: =Source!E15 -> ЛСР №ЛС-02-01-01 | C29: =Source!G15 -> Коллектор по ул. Фестивальная, Сурской дамбе, ул. Садовая до КНС №1 | D29: 21025.175 | E29: =IF(Source!AJ15=0,"-", Source!AJ15/1) -> - | F29: =IF(Source!AK15=0,"-", Source!AK15/1) -> - | G29: =IF(Source!AL15=0,"-", Source!AL15/1) -> - | H29: 21025.175
A30: 3 | B30: =Source!E16 -> ЛСР №ЛС-02-02-01 | C30: =Source!G16 -> Коллектор по Гоголевскому спуску от ул. Свердлова до ОСК | D30: 86481.817 | E30: =IF(Source!AJ16=0,"-", Source!AJ16/1) -> - | F30: =IF(Source!AK16=0,"-", Source!AK16/1) -> - | G30: =IF(Source!AL16=0,"-", Source!AL16/1) -> - | H30: 86481.817
A31: 4 | B31: =Source!E17 -> ЛСР №ЛС-02-03-01 | C31: =Source!G17 -> Коллектор по ул. Шпальная, на участке от ул. Кутузова до ул.Почтовая | D31: 55949.551 | E31: =IF(Source!AJ17=0,"-", Source!AJ17/1) -> - | F31: =IF(Source!AK17=0,"-", Source!AK17/1) -> - | G31: =IF(Source!AL17=0,"-", Source!AL17/1) -> - | H31: 55949.551
A32: 5 | B32: =Source!E18 -> ЛСР №ЛС-02-04-01 | C32: =Source!G18 -> Напорный коллектор от КНС №1 по ул. Садовая, ул. Академика Крылова, ул. Ленина до пересечения с ул. Комиссариатская | D32: 56666.724 | E32: =IF(Source!AJ18=0,"-", Source!AJ18/1) -> - | F32: =IF(Source!AK18=0,"-", Source!AK18/1) -> - | G32: =IF(Source!AL18=0,"-", Source!AL18/1) -> - | H32: 56666.724
A33: 6 | B33: =Source!E19 -> ЛСР №ЛС-02-05-01 | C33: =Source!G19 -> Напорный коллектор КНС №2 по ул. Чебоксарская и ул. Ленина до ул. Маяковского, 20 (камера гашения) | D33: 47135.954 | E33: =IF(Source!AJ19=0,"-", Source!AJ19/1) -> - | F33: =IF(Source!AK19=0,"-", Source!AK19/1) -> - | G33: =IF(Source!AL19=0,"-", Source!AL19/1) -> - | H33: 47135.954
A34: 7 | B34: =Source!E20 -> ЛСР №ЛС-02-06-01 | C34: =Source!G20 -> Канализационная сеть по ул. Ленина от ул. Комиссариатская до ул. Троицкая | D34: 119634.55 | E34: =IF(Source!AJ20=0,"-", Source!AJ20/1) -> - | F34: =IF(Source!AK20=0,"-", Source!AK20/1) -> - | G34: =IF(Source!AL20=0,"-", Source!AL20/1) -> - | H34: 119634.55
A35: 8 | B35: =Source!E21 -> ЛСР №ЛС-02-07-01 | C35: =Source!G21 -> Канализационная сеть по ул. Советская от школы №3 до ул. Гончарова | D35: 66631.682 | E35: =IF(Source!AJ21=0,"-", Source!AJ21/1) -> - | F35: =IF(Source!AK21=0,"-", Source!AK21/1) -> - | G35: =IF(Source!AL21=0,"-", Source!AL21/1) -> - | H35: 66631.682
A36: 9 | B36: =Source!E22 -> ЛСР №ЛС-02-08-01 | C36: =Source!G22 -> Канализационная сеть по ул. Гончарова от к/т «Октябрь» до ул. Ленина | D36: 30415.133 | E36: =IF(Source!AJ22=0,"-", Source!AJ22/1) -> - | F36: =IF(Source!AK22=0,"-", Source!AK22/1) -> - | G36: =IF(Source!AL22=0,"-", Source!AL22/1) -> - | H36: 30415.133
C37: =CONCATENATE("Итого по ", Source!F14) -> Итого по Гл. 2 | D37: =SUM(D29:D36) -> 483940.58 | E37: =IF(Source!AJ14=0,"-", Source!AJ14/1) -> - | F37: =IF(Source!AK14=0,"-", Source!AK14/1) -> - | G37: =IF(Source!AL14=0,"-", Source!AL14/1) -> - | H37: =SUM(H29:H36) -> 483940.58
C39: =Source!G23 -> Глава 3. Объекты подсобного и обслуживающего назначения.
C40: =CONCATENATE("Итого по ", Source!F23) -> Итого по Гл. 3 | D40: =IF(Source!AI23=0,"-", Source!AI23/1) -> - | E40: =IF(Source!AJ23=0,"-", Source!AJ23/1) -> - | F40: =IF(Source!AK23=0,"-", Source!AK23/1) -> - | G40: =IF(Source!AL23=0,"-", Source!AL23/1) -> - | H40: =IF(Source!AM23=0,"-", Source!AM23/1) -> -
C42: =Source!G24 -> Глава 4. Объекты энергетического хозяйства.
C43: =CONCATENATE("Итого по ", Source!F24) -> Итого по Гл. 4 | D43: =IF(Source!AI24=0,"-", Source!AI24/1) -> - | E43: =IF(Source!AJ24=0,"-", Source!AJ24/1) -> - | F43: =IF(Source!AK24=0,"-", Source!AK24/1) -> - | G43: =IF(Source!AL24=0,"-", Source!AL24/1) -> - | H43: =IF(Source!AM24=0,"-", Source!AM24/1) -> -
C45: =Source!G25 -> Глава 5. Объекты транспортного хозяйства и связи.
C46: =CONCATENATE("Итого по ", Source!F25) -> Итого по Гл. 5 | D46: =IF(Source!AI25=0,"-", Source!AI25/1) -> - | E46: =IF(Source!AJ25=0,"-", Source!AJ25/1) -> - | F46: =IF(Source!AK25=0,"-", Source!AK25/1) -> - | G46: =IF(Source!AL25=0,"-", Source!AL25/1) -> - | H46: =IF(Source!AM25=0,"-", Source!AM25/1) -> -
C48: =Source!G26 -> Глава 6. Наружные сети и сооружения водоснабжения, водоотведения, теплоснабжения и газоснабжения. | Q48: =Source!G26 -> Глава 6. Наружные сети и сооружения водоснабжения, водоотведения, теплоснабжения и газоснабжения.
C49: =CONCATENATE("Итого по ", Source!F26) -> Итого по Гл. 6 | D49: =IF(Source!AI26=0,"-", Source!AI26/1) -> - | E49: =IF(Source!AJ26=0,"-", Source!AJ26/1) -> - | F49: =IF(Source!AK26=0,"-", Source!AK26/1) -> - | G49: =IF(Source!AL26=0,"-", Source!AL26/1) -> - | H49: =IF(Source!AM26=0,"-", Source!AM26/1) -> -
C51: =Source!G27 -> Глава 7. Благоустройство и озеленение территории.
C52: =CONCATENATE("Итого по ", Source!F27) -> Итого по Гл. 7 | D52: =IF(Source!AI27=0,"-", Source!AI27/1) -> - | E52: =IF(Source!AJ27=0,"-", Source!AJ27/1) -> - | F52: =IF(Source!AK27=0,"-", Source!AK27/1) -> - | G52: =IF(Source!AL27=0,"-", Source!AL27/1) -> - | H52: =IF(Source!AM27=0,"-", Source!AM27/1) -> -
C54: =Source!G28 -> Итого по главам 1 - 7 | D54: =D37 -> 483940.58 | E54: =IF(Source!AJ28=0,"-", Source!AJ28/1) -> - | F54: =IF(Source!AK28=0,"-", Source!AK28/1) -> - | G54: =IF(Source!AL28=0,"-", Source!AL28/1) -> 170.11 | H54: =H37+H26 -> 484110.69
C56: =Source!G30 -> Глава 8. Временные здания и сооружения.
...

Sheet Source
A1: 0 | B1: Smeta.RU (495) 974-1589 | D1: _SSR_ | F1: 0 | G1: 0 | H1: 0 | I1: Smeta.RU | K1: 1 | L1: 67869 | M1: 10 | N1: 11 | O1: 15 | P1: 0 | Q1: 2
A4: 5 | B4: 1 | C4: -1 | D4: 23 | E4: 41 | G4: Реконструкция объектов централизованной системы водоотведения г. Алатырь Чувашской Республики (8 мероприятий по сетям водоотведения, проходящим по улицам: Фестивальная, Садовая, Свердлова, Шпальная, Кутузова, Почтовая, Академика Крылова, Ленина, Комиссариатская, Чебоксарская, Маяковского, Троицкая, Советская, Гончарова, Гоголевский спуск, Сурская дамба) | H4: КУ ЧР "Республиканская служба единого заказчика" Министерства строительства, архитектуры и жилищно-коммунального хозяйства Чувашской Республики | I4: Паркаев А.А. | K4: ООО "ПМК-Проект" | L4: Ижелеева К.В. | M4: Лукиянов В.В. | N4: Заковряшина Н.О. | O4: сметного | R4: Начальник отдела сопровождения проектно-изыскательских работ | W4: 108429162 | X4: 2025 | Y4: 10 | Z4: 2025, Октябрь | AA4: 45993 | AC4: 651179.2 | AD4: 0 | AE4: 0 | AF4: 636341.36 | AG4: 0 | AH4: 0 | AI4: 14837.84 | AL4: 0 | AM4: 0 | AN4: 0 | AO4: 636341.36 | AP4: 0 | AQ4: 0 | AR4: 0 | AS4: 14837.84 | AT4: 0 | AU4: 651179.2 | AV4: 0 | AW4: 0 | AX4: 0 | AY4: 0 | BL4: 0
A5: 1 | B5: 1 | C5: -1 | F5: СТРОЙКА ОЦСК | G5: СТРОЙКА ОЦСК | P5: 0 | BL5: 0
A10: 35 | B10: 20 | C10: 108429162 | D10: 1 | E10: 0 | F10: 1 | G10: 61 | H10: 71 | I10: 89 | J10: 137 | K10: 0
B12: 1 | F12: Гл. 1 | G12: Глава 1. Подготовка территории строительства, реконструкции, капитального ремонта. | H12: 1 | I12: 0 | J12: 0 | K12: 4 | L12: 0 | M12: 0 | N12: 0 | O12: 1 | P12: 0 | Q12: 0 | R12: 0 | AI12: 0 | AJ12: 0 | AK12: 0 | AL12: 170.11 | AM12: 170.11 | AN12: 0 | AO12: 0 | AP12: 0 | AQ12: 0 | AR12: 0 | AS12: 0 | AT12: 0 | AU12: 0 | AV12: 0 | AW12: 0 | AX12: 0 | AY12: 0 | AZ12: 0 | BA12: 0 | BB12: 0 | BC12: 0
B13: 1 | E13: Расчет №1 | F13: Итог 4 | G13: Перенос и закрепление в натуре оси трасс разного назначения: водопровода,канализации, дорог и прочие линейные сооружения | H13: 1 | I13: 1 | J13: 0 | K13: 55412 | L13: 0 | M13: 0 | N13: 0 | O13: 0 | P13: 0 | Q13: 0 | R13: 0 | AH13: Прочие | AI13: 0 | AJ13: 0 | AK13: 0 | AL13: 170.11 | AM13: 170.11 | AN13: 0 | AO13: 0 | AP13: 0 | AQ13: 0 | AR13: 0 | AS13: 0 | AT13: 0 | AU13: 0 | AV13: 0 | AW13: 0 | AX13: 0 | AY13: 0 | AZ13: 0 | BA13: 0 | BB13: 0 | BC13: 0
B14: 1 | F14: Гл. 2 | G14: Глава 2. Основные объекты строительства, реконструкции, капитального ремонта. | H14: 4 | I14: 0 | J14: 0 | K14: 7 | L14: 0 | M14: 0 | N14: 0 | O14: 2 | P14: 0 | Q14: 0 | R14: 0 | AI14: 483940.58 | AJ14: 0 | AK14: 0 | AL14: 0 | AM14: 483940.58 | AN14: 0 | AO14: 0 | AP14: 0 | AQ14: 0 | AR14: 0 | AS14: 0 | AT14: 0 | AU14: 0 | AV14: 0 | AW14: 0 | AX14: 0 | AY14: 0 | AZ14: 0 | BA14: 0 | BB14: 483940.58 | BC14: 0
B15: 1 | C15: 2 | D15: 110494802 | E15: ЛСР №ЛС-02-01-01 | G15: Коллектор по ул. Фестивальная, Сурской дамбе, ул. Садовая до КНС №1 | H15: 4 | I15: 0 | J15: 54 | K15: 55396 | L15: 3 | M15: 110494873 | N15: 1 | O15: 106577040 | P15: 0 | Q15: 0 | R15: 766.02558 | AH15: ЕР | AI15: 21025.18 | AJ15: 0 | AK15: 0 | AL15: 0 | AM15: 21025.18 | AN15: 0 | AO15: 12315.79 | AP15: 18079.54 | AQ15: 3932.95 | AR15: 252.78 | AS15: 1475.24 | AT15: 4.12 | AU15: 0.5 | AV15: 0 | AW15: 1846.21 | AX15: 1099.43 | AY15: 0 | AZ15: 0 | BA15: 102.78 | BB15: 21025.18 | BC15: 0
B16: 1 | C16: 2 | D16: 110496543 | E16: ЛСР №ЛС-02-02-01 | G16: Коллектор по Гоголевскому спуску от ул. Свердлова до ОСК | H16: 4 | I16: 0 | J16: 53 | K16: 55395 | L16: 3 | M16: 110496613 | N16: 1 | O16: 106577040 | P16: 0 | Q16: 0 | R16: 2875.2219 | AH16: ЕР | AI16: 86481.82 | AJ16: 0 | AK16: 0 | AL16: 0 | AM16: 86481.82 | AN16: 0 | AO16: 58703.81 | AP16: 77250.96 | AQ16: 12749.05 | AR16: 1080.94 | AS16: 4409.73 | AT16: 12.07 | AU16: 2.11 | AV16: 0 | AW16: 5850.09 | AX16: 3380.77 | AY16: 0 | AZ16: 0 | BA16: 307.43 | BB16: 86481.82 | BC16: 0
B17: 1 | C17: 2 | D17: 110630428 | E17: ЛСР №ЛС-02-03-01 | G17: Коллектор по ул. Шпальная, на участке от ул. Кутузова до ул.Почтовая | H17: 4 | I17: 0 | J17: 61 | K17: 55409 | L17: 3 | M17: 110630498 | N17: 1 | O17: 106577040 | P17: 0 | Q17: 0 | R17: 1860.4379 | AH17: ЕР | AI17: 55949.55 | AJ17: 0 | AK17: 0 | AL17: 0 | AM17: 55949.55 | AN17: 0 | AO17: 34888.57 | AP17: 48833.45 | AQ17: 9233.72 | AR17: 618.92 | AS17: 3872.59 | AT17: 10.82 | AU17: 1.21 | AV17: 0 | AW17: 4572.11 | AX17: 2543.99 | AY17: 0 | AZ17: 0 | BA17: 219.65 | BB17: 55949.55 | BC17: 0
B18: 1 | C18: 2 | D18: 110668641 | E18: ЛСР №ЛС-02-04-01 | G18: Напорный коллектор от КНС №1 по ул. Садовая, ул. Академика Крылова, ул. Ленина до пересечения с ул. Комиссариатская | H18: 4 | I18: 0 | J18: 65 | K18: 55414 | L18: 3 | M18: 110668711 | N18: 1 | O18: 106577040 | P18: 0 | Q18: 0 | R18: 3586.5053 | AH18: ЕР | AI18: 56666.72 | AJ18: 0 | AK18: 0 | AL18: 0 | AM18: 56666.72 | AN18: 0 | AO18: 31233.04 | AP18: 50075.29 | AQ18: 14431.8 | AR18: 1820.08 | AS18: 2474.61 | AT18: 6.57 | AU18: 3.85 | AV18: 0 | AW18: 4440.43 | AX18: 2151.01 | AY18: 0 | AZ18: 0 | BA18: 115.75 | BB18: 56666.72 | BC18: 0
B19: 1 | C19: 2 | D19: 110634466 | E19: ЛСР №ЛС-02-05-01 | G19: Напорный коллектор КНС №2 по ул. Чебоксарская и ул. Ленина до ул. Маяковского, 20 (камера гашения) | H19: 4 | I19: 0 | J19: 62 | K19: 55410 | L19: 3 | M19: 110634536 | N19: 1 | O19: 106577040 | P19: 0 | Q19: 0 | R19: 2379.1601 | AH19: ЕР | AI19: 47135.95 | AJ19: 0 | AK19: 0 | AL19: 0 | AM19: 47135.95 | AN19: 0 | AO19: 25457.51 | AP19: 41710.2 | AQ19: 12580.86 | AR19: 1082.27 | AS19: 2463.6 | AT19: 6.85 | AU19: 2.14 | AV19: 0 | AW19: 3588.29 | AX19: 1837.47 | AY19: 0 | AZ19: 0 | BA19: 125.97 | BB19: 47135.95 | BC19: 0
B20: 1 | C20: 2 | D20: 110636620 | E20: ЛСР №ЛС-02-06-01 | G20: Канализационная сеть по ул. Ленина от ул. Комиссариатская до ул. Троицкая | H20: 4 | I20: 0 | J20: 59 | K20: 55407 | L20: 3 | M20: 110636690 | N20: 1 | O20: 106577040 | P20: 0 | Q20: 0 | R20: 4087.086 | AH20: ЕР | AI20: 119634.55 | AJ20: 0 | AK20: 0 | AL20: 0 | AM20: 119634.55 | AN20: 0 | AO20: 80172.54 | AP20: 104761.16 | AQ20: 15134.07 | AR20: 1393.87 | AS20: 7196.62 | AT20: 19.69 | AU20: 2.78 | AV20: 0 | AW20: 9286.71 | AX20: 5586.68 | AY20: 0 | AZ20: 0 | BA20: 864.07 | BB20: 119634.55 | BC20: 0
B21: 1 | C21: 2 | D21: 110638652 | E21: ЛСР №ЛС-02-07-01 | G21: Канализационная сеть по ул. Советская от школы №3 до ул. Гончарова | H21: 4 | I21: 0 | J21: 60 | K21: 55408 | L21: 3 | M21: 110638722 | N21: 1 | O21: 106577040 | P21: 0 | Q21: 0 | R21: 2688.4986 | AH21: ЕР | AI21: 66631.68 | AJ21: 0 | AK21: 0 | AL21: 0 | AM21: 66631.68 | AN21: 0 | AO21: 41921.19 | AP21: 57421.25 | AQ21: 9827.54 | AR21: 1078.63 | AS21: 4364.92 | AT21: 12.17 | AU21: 2.12 | AV21: 0 | AW21: 5816.96 | AX21: 3393.47 | AY21: 0 | AZ21: 0 | BA21: 228.96 | BB21: 66631.68 | BC21: 0
B22: 1 | C22: 2 | D22: 110677113 | E22: ЛСР №ЛС-02-08-01 | G22: Канализационная сеть по ул. Гончарова от к/т «Октябрь» до ул. Ленина | H22: 4 | I22: 0 | J22: 64 | K22: 55413 | L22: 3 | M22: 110677183 | N22: 1 | O22: 106577040 | P22: 0 | Q22: 0 | R22: 1741.7674 | AH22: ЕР | AI22: 30415.13 | AJ22: 0 | AK22: 0 | AL22: 0 | AM22: 30415.13 | AN22: 0 | AO22: 16098.99 | AP22: 26591.4 | AQ22: 8163 | AR22: 921.36 | AS22: 1366.02 | AT22: 3.47 | AU22: 1.94 | AV22: 0 | AW22: 2515.34 | AX22: 1308.39 | AY22: 0 | AZ22: 0 | BA22: 42.04 | BB22: 30415.13 | BC22: 0
B23: 1 | F23: Гл. 3 | G23: Глава 3. Объекты подсобного и обслуживающего назначения. | H23: 5 | I23: 0 | J23: 0 | K23: 9 | L23: 0 | M23: 0 | N23: 0 | O23: 3 | P23: 0 | Q23: 0 | R23: 0 | AI23: 0 | AJ23: 0 | AK23: 0 | AL23: 0 | AM23: 0 | AN23: 0 | AO23: 0 | AP23: 0 | AQ23: 0 | AR23: 0 | AS23: 0 | AT23: 0 | AU23: 0 | AV23: 0 | AW23: 0 | AX23: 0 | AY23: 0 | AZ23: 0 | BA23: 0 | BB23: 0 | BC23: 0
B24: 1 | F24: Гл. 4 | G24: Глава 4. Объекты энергетического хозяйства. | H24: 6 | I24: 0 | J24: 0 | K24: 10 | L24: 0 | M24: 0 | N24: 0 | O24: 4 | P24: 0 | Q24: 0 | R24: 0 | AI24: 0 | AJ24: 0 | AK24: 0 | AL24: 0 | AM24: 0 | AN24: 0 | AO24: 0 | AP24: 0 | AQ24: 0 | AR24: 0 | AS24: 0 | AT24: 0 | AU24: 0 | AV24: 0 | AW24: 0 | AX24: 0 | AY24: 0 | AZ24: 0 | BA24: 0 | BB24: 0 | BC24: 0
B25: 1 | F25: Гл. 5 | G25: Глава 5. Объекты транспортного хозяйства и связи. | H25: 7 | I25: 0 | J25: 0 | K25: 11 | L25: 0 | M25: 0 | N25: 0 | O25: 5 | P25: 0 | Q25: 0 | R25: 0 | AI25: 0 | AJ25: 0 | AK25: 0 | AL25: 0 | AM25: 0 | AN25: 0 | AO25: 0 | AP25: 0 | AQ25: 0 | AR25: 0 | AS25: 0 | AT25: 0 | AU25: 0 | AV25: 0 | AW25: 0 | AX25: 0 | AY25: 0 | AZ25: 0 | BA25: 0 | BB25: 0 | BC25: 0
B26: 1 | F26: Гл. 6 | G26: Глава 6. Наружные сети и сооружения водоснабжения, водоотведения, теплоснабжения и газоснабжения. | H26: 8 | I26: 0 | J26: 0 | K26: 12 | L26: 0 | M26: 0 | N26: 0 | O26: 6 | P26: 0 | Q26: 0 | R26: 0 | AI26: 0 | AJ26: 0 | AK26: 0 | AL26: 0 | AM26: 0 | AN26: 0 | AO26: 0 | AP26: 0 | AQ26: 0 | AR26: 0 | AS26: 0 | AT26: 0 | AU26: 0 | AV26: 0 | AW26: 0 | AX26: 0 | AY26: 0 | AZ26: 0 | BA26: 0 | BB26: 0 | BC26: 0
B27: 1 | F27: Гл. 7 | G27: Глава 7. Благоустройство и озеленение территории. | H27: 9 | I27: 0 | J27: 0 | K27: 13 | L27: 0 | M27: 0 | N27: 0 | O27: 7 | P27: 0 | Q27: 0 | R27: 0 | AI27: 0 | AJ27: 0 | AK27: 0 | AL27: 0 | AM27: 0 | AN27: 0 | AO27: 0 | AP27: 0 | AQ27: 0 | AR27: 0 | AS27: 0 | AT27: 0 | AU27: 0 | AV27: 0 | AW27: 0 | AX27: 0 | AY27: 0 | AZ27: 0 | BA27: 0 | BB27: 0 | BC27: 0
B28: 1 | F28: Ит 1-7 | G28: Итого по главам 1 - 7 | H28: 10 | I28: 0 | J28: 0 | K28: 60 | L28: 9 | M28: 0 | N28: 0 | O28: 0 | P28: 0 | Q28: 0 | R28: 0 | S28: -1 | T28: 0 | W28: -1 | X28: 0 | AA28: -1 | AB28: 0 | AE28: 0 | AF28: 0 | AG28: 0 | AI28: 483940.58 | AJ28: 0 | AK28: 0 | AL28: 170.11 | AM28: 484110.69 | AN28: 0 | AO28: 0 | AP28: 0 | AQ28: 0 | AR28: 0 | AS28: 0 | AT28: 0 | AU28: 0 | AV28: 0 | AW28: 0 | AX28: 0 | AY28: 0 | AZ28: 0 | BA28: 0 | BB28: 483940.58 | BC28: 0
B29: 0 | F29: 1-7 | G29: Итого по главам 1 - 7 | H29: 10 | I29: 12 | J29: 0 | K29: 63 | L29: 0 | M29: 0 | N29: 0 | O29: 0 | P29: 0 | Q29: 0 | R29: 0 | S29: -1 | T29: 0 | W29: -1 | X29: 0 | AA29: -1 | AB29: 0 | AE29: 0 | AF29: 0 | AG29: 0 | AH29: Прочие | AI29: 483940.58 | AJ29: 0 | AK29: 0 | AL29: 170.11 | AM29: 484110.69 | AN29: 0 | AO29: 0 | AP29: 0 | AQ29: 0 | AR29: 0 | AS29: 0 | AT29: 0 | AU29: 0 | AV29: 0 | AW29: 0 | AX29: 0 | AY29: 0 | AZ29: 0 | BA29: 0 | BB29: 483940.58 | BC29: 0
B30: 1 | F30: Гл. 8 | G30: Глава 8. Временные здания и сооружения. | H30: 11 | I30: 0 | J30: 0 | K30: 14 | L30: 0 | M30: 0 | N30: 0 | O30: 8 | P30: 0 | Q30: 0 | R30: 0 | S30: -1 | T30: 0 | AF30: 0 | AI30: 5807.29 | AJ30: 0 | AK30: 0 | AL30: 0 | AM30: 5807.29 | AN30: 0 | AO30: 0 | AP30: 0 | AQ30: 0 | AR30: 0 | AS30: 0 | AT30: 0 | AU30: 0 | AV30: 0 | AW30: 0 | AX30: 0 | AY30: 0 | AZ30: 0 | BA30: 0 | BB30: 5807.29 | BC30: 0
B31: 1 | E31: Приказ №332/пр от 19.06.2020 г. (с изм №534/пр от 13.08.2024 г.) | F31: Итог 2 | G31: Временные здания и сооружения (п.41) - 1,5% с К-0,8 | H31: 11 | I31: 13 | J31: 0 | K31: 399 | L31: 0 | M31: 0 | N31: 0 | O31: 0 | P31: 0 | Q31: 0 | R31: 0 | S31: -1 | T31: 0 | AF31: 0 | AH31: СН | AI31: 5807.29 | AJ31: 0 | AK31: 0 | AL31: 0 | AM31: 5807.29 | AN31: 0 | AO31: 0 | AP31: 0 | AQ31: 0 | AR31: 0 | AS31: 0 | AT31: 0 | AU31: 0 | AV31: 0 | AW31: 0 | AX31: 0 | AY31: 0 | AZ31: 0 | BA31: 0 | BB31: 5807.29 | BC31: 0
B32: 1 | F32: Ит 1-8 | G32: Итого по главам 1 - 8 | H32: 12 | I32: 0 | J32: 0 | K32: 61 | L32: 9 | M32: 0 | N32: 0 | O32: 0 | P32: 0 | Q32: 0 | R32: 0 | S32: -1 | T32: 0 | W32: -1 | X32: 0 | AA32: -1 | AB32: 0 | AE32: 0 | AF32: 0 | AG32: 0 | AI32: 489747.87 | AJ32: 0 | AK32: 0 | AL32: 170.11 | AM32: 489917.98 | AN32: 0 | AO32: 0 | AP32: 0 | AQ32: 0 | AR32: 0 | AS32: 0 | AT32: 0 | AU32: 0 | AV32: 0 | AW32: 0 | AX32: 0 | AY32: 0 | AZ32: 0 | BA32: 0 | BB32: 489747.87 | BC32: 0
B33: 0 | F33: 1-8 | G33: Итого по главам 1 - 8 | H33: 12 | I33: 1 | J33: 0 | K33: 64 | L33: 0 | M33: 0 | N33: 0 | O33: 0 | P33: 0 | Q33: 0 | R33: 0 | S33: -1 | T33: 0 | W33: -1 | X33: 0 | AA33: -1 | AB33: 0 | AE33: 0 | AF33: 0 | AG33: 0 | AH33: Прочие | AI33: 489747.87 | AJ33: 0 | AK33: 0 | AL33: 170.11 | AM33: 489917.98 | AN33: 0 | AO33: 0 | AP33: 0 | AQ33: 0 | AR33: 0 | AS33: 0 | AT33: 0 | AU33: 0 | AV33: 0 | AW33: 0 | AX33: 0 | AY33: 0 | AZ33: 0 | BA33: 0 | BB33: 489747.87 | BC33: 0
B34: 1 | F34: Гл. 9 | G34: Глава 9. Прочие работы и затраты. | H34: 13 | I34: 0 | J34: 0 | K34: 16 | L34: 0 | M34: 0 | N34: 0 | O34: 9 | P34: 0 | Q34: 0 | R34: 0 | S34: -1 | T34: 0 | W34: -1 | X34: 0 | AA34: -1 | AB34: 0 | AE34: 0 | AF34: 0 | AG34: 0 | AI34: 16651.43 | AJ34: 0 | AK34: 0 | AL34: 830.2 | AM34: 17481.63 | AN34: 0 | AO34: 0 | AP34: 0 | AQ34: 0 | AR34: 0 | AS34: 0 | AT34: 0 | AU34: 0 | AV34: 0 | AW34: 0 | AX34: 0 | AY34: 0 | AZ34: 0 | BA34: 0 | BB34: 16651.43 | BC34: 0
B35: 1 | E35: Приказ №325/пр от 25.05.2021 г. (с изм. №170/пр от 25.03.2025 г.) | F35: Итог 1 | G35: Дополнительные затраты при производстве работ в зимнее время (п.77) - 3,4% | H35: 13 | I35: 1 | J35: 0 | K35: 1207 | L35: 0 | M35: 0 | N35: 0 | O35: 0 | P35: 0 | Q35: 0 | R35: 0 | S35: -1 | T35: 0 | W35: -1 | X35: 0 | AA35: -1 | AB35: 0 | AE35: 0 | AF35: 0 | AG35: 0 | AH35: Прочие | AI35: 16651.43 | AJ35: 0 | AK35: 0 | AL35: 0 | AM35: 16651.43 | AN35: 0 | AO35: 0 | AP35: 0 | AQ35: 0 | AR35: 0 | AS35: 0 | AT35: 0 | AU35: 0 | AV35: 0 | AW35: 0 | AX35: 0 | AY35: 0 | AZ35: 0 | BA35: 0 | BB35: 16651.43 | BC35: 0
B36: 1 | E36: Расчет №2 | F36: Итог 3 | G36: Расчет платы размещения строительного мусора на полигоне ТБО | H36: 13 | I36: 6 | J36: 0 | K36: 55171 | L36: 0 | M36: 0 | N36: 0 | O36: 0 | P36: 0 | Q36: 0 | R36: 0 | S36: -1 | T36: 0 | W36: -1 | X36: 0 | AA36: -1 | AB36: 0 | AE36: 0 | AF36: 0 | AG36: 0 | AH36: Прочие | AI36: 0 | AJ36: 0 | AK36: 0 | AL36: 830.2 | AM36: 830.2 | AN36: 0 | AO36: 0 | AP36: 0 | AQ36: 0 | AR36: 0 | AS36: 0 | AT36: 0 | AU36: 0 | AV36: 0 | AW36: 0 | AX36: 0 | AY36: 0 | AZ36: 0 | BA36: 0 | BB36: 0 | BC36: 0
B37: 1 | F37: Ит 1-9 | G37: Итого по главам 1 - 9 | H37: 15 | I37: 0 | J37: 0 | K37: 62 | L37: 9 | M37: 0 | N37: 0 | O37: 0 | P37: 0 | Q37: 0 | R37: 0 | S37: -1 | T37: 0 | W37: -1 | X37: 0 | AA37: -1 | AB37: 0 | AE37: 0 | AF37: 0 | AG37: 0 | AI37: 506399.3 | AJ37: 0 | AK37: 0 | AL37: 1000.31 | AM37: 507399.61 | AN37: 0 | AO37: 0 | AP37: 0 | AQ37: 0 | AR37: 0 | AS37: 0 | AT37: 0 | AU37: 0 | AV37: 0 | AW37: 0 | AX37: 0 | AY37: 0 | AZ37: 0 | BA37: 0 | BB37: 506399.3 | BC37: 0
B38: 0 | F38: 1-9 | G38: Итого по главам 1 - 9 | H38: 15 | I38: 1 | J38: 0 | K38: 65 | L38: 0 | M38: 0 | N38: 0 | O38: 0 | P38: 0 | Q38: 0 | R38: 0 | S38: -1 | T38: 0 | W38: -1 | X38: 0 | AA38: -1 | AB38: 0 | AE38: 0 | AF38: 0 | AG38: 0 | AH38: Прочие | AI38: 506399.3 | AJ38: 0 | AK38: 0 | AL38: 1000.31 | AM38: 507399.61 | AN38: 0 | AO38: 0 | AP38: 0 | AQ38: 0 | AR38: 0 | AS38: 0 | AT38: 0 | AU38: 0 | AV38: 0 | AW38: 0 | AX38: 0 | AY38: 0 | AZ38: 0 | BA38: 0 | BB38: 506399.3 | BC38: 0
B39: 1 | F39: Гл. 10 | G39: Глава 10. Содержание службы заказчика. Строительный контроль. | H39: 16 | I39: 0 | J39: 0 | K39: 43 | L39: 0 | M39: 0 | N39: 0 | O39: 10 | P39: 0 | Q39: 0 | R39: 0 | S39: -1 | T39: 0 | W39: -1 | X39: 0 | AA39: -1 | AB39: 0 | AE39: 0 | AF39: 0 | AG39: 0 | AI39: 0 | AJ39: 0 | AK39: 0 | AL39: 9792.81 | AM39: 9792.81 | AN39: 0 | AO39: 0 | AP39: 0 | AQ39: 0 | AR39: 0 | AS39: 0 | AT39: 0 | AU39: 0 | AV39: 0 | AW39: 0 | AX39: 0 | AY39: 0 | AZ39: 0 | BA39: 0 | BB39: 0 | BC39: 0
B40: 1 | E40: Пост. Правительства РФ №468 от 21.06.2010 г. | F40: 162 | G40: Строительный контроль - 1,93%. | H40: 16 | I40: 1 | J40: 0 | K40: 349 | L40: 0 | M40: 0 | N40: 0 | O40: 0 | P40: 0 | Q40: 0 | R40: 0 | S40: -1 | T40: 0 | W40: -1 | X40: 0 | AA40: -1 | AB40: 0 | AE40: 0 | AF40: 0 | AG40: 0 | AH40: Прочие | AI40: 0 | AJ40: 0 | AK40: 0 | AL40: 9792.81 | AM40: 9792.81 | AN40: 0 | AO40: 0 | AP40: 0 | AQ40: 0 | AR40: 0 | AS40: 0 | AT40: 0 | AU40: 0 | AV40: 0 | AW40: 0 | AX40: 0 | AY40: 0 | AZ40: 0 | BA40: 0 | BB40: 0 | BC40: 0
B41: 1 | F41: Ит 1-10 | G41: Итого по главам 1 - 10 | H41: 17 | I41: 0 | J41: 0 | K41: 725 | L41: 9 | M41: 0 | N41: 0 | O41: 0 | P41: 0 | Q41: 0 | R41: 0 | S41: -1 | T41: 0 | W41: -1 | X41: 0 | AA41: -1 | AB41: 0 | AE41: 0 | AF41: 0 | AG41: 0 | AI41: 506399.3 | AJ41: 0 | AK41: 0 | AL41: 10793.12 | AM41: 517192.42 | AN41: 0 | AO41: 0 | AP41: 0 | AQ41: 0 | AR41: 0 | AS41: 0 | AT41: 0 | AU41: 0 | AV41: 0 | AW41: 0 | AX41: 0 | AY41: 0 | AZ41: 0 | BA41: 0 | BB41: 506399.3 | BC41: 0
B42: 0 | F42: 1-10 | G42: Итого по главам 1 - 10 | H42: 17 | I42: 1 | J42: 0 | K42: 726 | L42: 0 | M42: 0 | N42: 0 | O42: 0 | P42: 0 | Q42: 0 | R42: 0 | S42: -1 | T42: 0 | W42: -1 | X42: 0 | AA42: -1 | AB42: 0 | AE42: 0 | AF42: 0 | AG42: 0 | AH42: Прочие | AI42: 506399.3 | AJ42: 0 | AK42: 0 | AL42: 10793.12 | AM42: 517192.42 | AN42: 0 | AO42: 0 | AP42: 0 | AQ42: 0 | AR42: 0 | AS42: 0 | AT42: 0 | AU42: 0 | AV42: 0 | AW42: 0 | AX42: 0 | AY42: 0 | AZ42: 0 | BA42: 0 | BB42: 506399.3 | BC42: 0
B43: 0 | F43: Гл. 11 | G43: Глава 11. Подготовка эксплуатационных кадров для строящегося объекта капитального строительства. | H43: 20 | I43: 0 | J43: 0 | K43: 46 | L43: 0 | M43: 0 | N43: 0 | O43: 11 | P43: 0 | Q43: 0 | R43: 0 | S43: -1 | T43: 0 | W43: -1 | X43: 0 | AA43: -1 | AB43: 0 | AE43: 0 | AF43: 0 | AG43: 0 | AI43: 0 | AJ43: 0 | AK43: 0 | AL43: 0 | AM43: 0 | AN43: 0 | AO43: 0 | AP43: 0 | AQ43: 0 | AR43: 0 | AS43: 0 | AT43: 0 | AU43: 0 | AV43: 0 | AW43: 0 | AX43: 0 | AY43: 0 | AZ43: 0 | BA43: 0 | BB43: 0 | BC43: 0
B44: 0 | F44: 170 | G44: Подготовка эксплуатационных кадров для строящегося объекта капитального строительства. | H44: 20 | I44: 1 | J44: 0 | K44: 394 | L44: 0 | M44: 0 | N44: 0 | O44: 0 | P44: 0 | Q44: 0 | R44: 0 | S44: -1 | T44: 0 | W44: -1 | X44: 0 | AA44: -1 | AB44: 0 | AE44: 0 | AF44: 0 | AG44: 0 | AH44: Прочие | AI44: 0 | AJ44: 0 | AK44: 0 | AL44: 0 | AM44: 0 | AN44: 0 | AO44: 0 | AP44: 0 | AQ44: 0 | AR44: 0 | AS44: 0 | AT44: 0 | AU44: 0 | AV44: 0 | AW44: 0 | AX44: 0 | AY44: 0 | AZ44: 0 | BA44: 0 | BB44: 0 | BC44: 0
B45: 0 | F45: Ит 1-11 | G45: Итого по главам 1 - 11 | H45: 21 | I45: 0 | J45: 0 | K45: 727 | L45: 9 | M45: 0 | N45: 0 | O45: 0 | P45: 0 | Q45: 0 | R45: 0 | S45: -1 | T45: 0 | W45: -1 | X45: 0 | AA45: -1 | AB45: 0 | AE45: 0 | AF45: 0 | AG45: 0 | AI45: 506399.3 | AJ45: 0 | AK45: 0 | AL45: 10793.12 | AM45: 517192.42 | AN45: 0 | AO45: 0 | AP45: 0 | AQ45: 0 | AR45: 0 | AS45: 0 | AT45: 0 | AU45: 0 | AV45: 0 | AW45: 0 | AX45: 0 | AY45: 0 | AZ45: 0 | BA45: 0 | BB45: 506399.3 | BC45: 0
B46: 0 | F46: 1-11 | G46: Итого по главам 1 - 11 | H46: 21 | I46: 1 | J46: 0 | K46: 728 | L46: 0 | M46: 0 | N46: 0 | O46: 0 | P46: 0 | Q46: 0 | R46: 0 | S46: -1 | T46: 0 | W46: -1 | X46: 0 | AA46: -1 | AB46: 0 | AE46: 0 | AF46: 0 | AG46: 0 | AH46: Прочие | AI46: 506399.3 | AJ46: 0 | AK46: 0 | AL46: 10793.12 | AM46: 517192.42 | AN46: 0 | AO46: 0 | AP46: 0 | AQ46: 0 | AR46: 0 | AS46: 0 | AT46: 0 | AU46: 0 | AV46: 0 | AW46: 0 | AX46: 0 | AY46: 0 | AZ46: 0 | BA46: 0 | BB46: 506399.3 | BC46: 0
B47: 1 | F47: Гл. 12 | G47: Глава 12. Публичный технологический и ценовой аудит, подготовка обоснования инвестиций, осуществляемых в инвестиционный проект по созданию объекта капитального строительства, в отношении которого планируется заключение контракта, предметом которого является одновременно выполнение работ по проектированию, строительству и вводу в эксплуатацию объекта капитального строительства, технологический и ценовой аудит такого обоснования инвестиций, аудит проектной документации, проектные и изыскательские работы. | H47: 22 | I47: 0 | J47: 0 | K47: 47 | L47: 0 | M47: 0 | N47: 0 | O47: 12 | P47: 0 | Q47: 0 | R47: 0 | S47: -1 | T47: 0 | W47: -1 | X47: 0 | AA47: -1 | AB47: 0 | AE47: 0 | AF47: 0 | AG47: 0 | AI47: 0 | AJ47: 0 | AK47: 0 | AL47: 1014.8 | AM47: 1014.8 | AN47: 0 | AO47: 0 | AP47: 0 | AQ47: 0 | AR47: 0 | AS47: 0 | AT47: 0 | AU47: 0 | AV47: 0 | AW47: 0 | AX47: 0 | AY47: 0 | AZ47: 0 | BA47: 0 | BB47: 0 | BC47: 0
...
